BEGIN:VCALENDAR
VERSION:2.0
PRODID:-//Sanskar Shakti - Garbh Sanskar - ECPv6.13.2.1//NONSGML v1.0//EN
CALSCALE:GREGORIAN
METHOD:PUBLISH
X-WR-CALNAME:Sanskar Shakti - Garbh Sanskar
X-ORIGINAL-URL:https://sanskarshakti.org
X-WR-CALDESC:Events for Sanskar Shakti - Garbh Sanskar
REFRESH-INTERVAL;VALUE=DURATION:PT1H
X-Robots-Tag:noindex
X-PUBLISHED-TTL:PT1H
BEGIN:VTIMEZONE
TZID:Asia/Kolkata
BEGIN:STANDARD
TZOFFSETFROM:+0530
TZOFFSETTO:+0530
TZNAME:IST
DTSTART:20260101T000000
END:STANDARD
END:VTIMEZONE
BEGIN:VEVENT
DTSTART;TZID=Asia/Kolkata:20260428T200000
DTEND;TZID=Asia/Kolkata:20260428T220000
DTSTAMP:20260421T102323
CREATED:20260327T045941Z
LAST-MODIFIED:20260327T045941Z
UID:10004381-1777406400-1777413600@sanskarshakti.org
SUMMARY:Shri Kumarpal Raja Charitra April'26
DESCRIPTION:Sanskar Shakti presents\nThe most awaiting session \n🌸पांच कोड़ी के फूलों से १८ देश के राजा बनने का सौभाग्य  जिनको प्राप्त हुआ🌼 \n🐎राजा के जीव दया की प्रशंसा स्वयं प्रभु वीर ने की \n💐रोज पुष्प पूजा करते समय और मंगल दीवा करते समय अवश्य हम जिनको याद करते हैं \nकलिकाल सर्वज्ञ जैसे गुरु जिनको प्राप्त हुए \nमहाराजा द्वारा प्रभु से की ग‌ई याचना \n📚 बड़ी उम्र में धर्म प्राप्ति के बाद जिन्होंने संस्कृत व्याकरण का अभ्यास किया \nपता चल ही गया होगा कि हम किसकी बात कर रहे हैं👉 \n जी हां हम कुमारपाल राजा की ही बात कर रहे हैं आप सब को इनका चरित्र जानना है तो अवश्य तैयार रहे\n(Kumarpal Raja charitra) \nSpeaker : Truptiben Maniyar \n🔴Only for full course pregnant mothers
URL:https://sanskarshakti.org/event/shri-kumarpal-raja-charitra-april26/2026-04-28/
CATEGORIES:Full course mothers
ATTACH;FMTTYPE=image/jpeg:https://storage.jainebooks.org/sanskarshakti/2026/03/IMG-20260327-102503-748.jpg
LOCATION:https://us02web.zoom.us/j/89910060645
END:VEVENT
BEGIN:VEVENT
DTSTART;TZID=Asia/Kolkata:20260429T200000
DTEND;TZID=Asia/Kolkata:20260429T220000
DTSTAMP:20260421T102323
CREATED:20260327T045941Z
LAST-MODIFIED:20260327T045941Z
UID:10004382-1777492800-1777500000@sanskarshakti.org
SUMMARY:Shri Kumarpal Raja Charitra April'26
DESCRIPTION:Sanskar Shakti presents\nThe most awaiting session \n🌸पांच कोड़ी के फूलों से १८ देश के राजा बनने का सौभाग्य  जिनको प्राप्त हुआ🌼 \n🐎राजा के जीव दया की प्रशंसा स्वयं प्रभु वीर ने की \n💐रोज पुष्प पूजा करते समय और मंगल दीवा करते समय अवश्य हम जिनको याद करते हैं \nकलिकाल सर्वज्ञ जैसे गुरु जिनको प्राप्त हुए \nमहाराजा द्वारा प्रभु से की ग‌ई याचना \n📚 बड़ी उम्र में धर्म प्राप्ति के बाद जिन्होंने संस्कृत व्याकरण का अभ्यास किया \nपता चल ही गया होगा कि हम किसकी बात कर रहे हैं👉 \n जी हां हम कुमारपाल राजा की ही बात कर रहे हैं आप सब को इनका चरित्र जानना है तो अवश्य तैयार रहे\n(Kumarpal Raja charitra) \nSpeaker : Truptiben Maniyar \n🔴Only for full course pregnant mothers
URL:https://sanskarshakti.org/event/shri-kumarpal-raja-charitra-april26/2026-04-29/
CATEGORIES:Full course mothers
ATTACH;FMTTYPE=image/jpeg:https://storage.jainebooks.org/sanskarshakti/2026/03/IMG-20260327-102503-748.jpg
LOCATION:https://us02web.zoom.us/j/89910060645
END:VEVENT
BEGIN:VEVENT
DTSTART;TZID=Asia/Kolkata:20260430T200000
DTEND;TZID=Asia/Kolkata:20260430T220000
DTSTAMP:20260421T102323
CREATED:20260327T045941Z
LAST-MODIFIED:20260327T045941Z
UID:10004383-1777579200-1777586400@sanskarshakti.org
SUMMARY:Shri Kumarpal Raja Charitra April'26
DESCRIPTION:Sanskar Shakti presents\nThe most awaiting session \n🌸पांच कोड़ी के फूलों से १८ देश के राजा बनने का सौभाग्य  जिनको प्राप्त हुआ🌼 \n🐎राजा के जीव दया की प्रशंसा स्वयं प्रभु वीर ने की \n💐रोज पुष्प पूजा करते समय और मंगल दीवा करते समय अवश्य हम जिनको याद करते हैं \nकलिकाल सर्वज्ञ जैसे गुरु जिनको प्राप्त हुए \nमहाराजा द्वारा प्रभु से की ग‌ई याचना \n📚 बड़ी उम्र में धर्म प्राप्ति के बाद जिन्होंने संस्कृत व्याकरण का अभ्यास किया \nपता चल ही गया होगा कि हम किसकी बात कर रहे हैं👉 \n जी हां हम कुमारपाल राजा की ही बात कर रहे हैं आप सब को इनका चरित्र जानना है तो अवश्य तैयार रहे\n(Kumarpal Raja charitra) \nSpeaker : Truptiben Maniyar \n🔴Only for full course pregnant mothers
URL:https://sanskarshakti.org/event/shri-kumarpal-raja-charitra-april26/2026-04-30/
CATEGORIES:Full course mothers
ATTACH;FMTTYPE=image/jpeg:https://storage.jainebooks.org/sanskarshakti/2026/03/IMG-20260327-102503-748.jpg
LOCATION:https://us02web.zoom.us/j/89910060645
END:VEVENT
BEGIN:VEVENT
DTSTART;TZID=Asia/Kolkata:20260513T143000
DTEND;TZID=Asia/Kolkata:20260513T160000
DTSTAMP:20260421T102323
CREATED:20260421T040843Z
LAST-MODIFIED:20260421T041013Z
UID:10004385-1778682600-1778688000@sanskarshakti.org
SUMMARY:Shri Kalpasutra Bhavanuvad May 2026
DESCRIPTION:🇸 🇭 🇷 🇮 \n🇰 🇦 🇱 🇵 🇦 🇸 🇺 🇹 🇷 🇦   \nSpecially for our Pregnant Mothers \n🤰हर गर्भवती माता को गर्भावस्था में श्री कल्पसूत्र का श्रवण\, पठन एवं अध्ययन करना चाहिए . \nWhat will we learn\n⚜️कल्प सूत्र की प्राचीनता।\n⚜️कल्प सूत्र का महत्व।\n⚜️कल्पसूत्र का वांचन कब से शुरू करना चाहिए।\n⚜️महावीरस्वामी जीवन चरित्र सम्पूर्ण।\n⚜️साधु साध्वीजी के आचार।\n⚜️१४ महास्वप्न विवरण (हर गर्भवती माता को सुनना चाहिए )\n⚜️माता त्रिशला का गर्भ काल\n⚜️प्रभु वीर का जन्म प्रसंग\n⚜️प्रभु वीर का बाल्यकाल  \nइत्यादि समजाएँगे | \nSo don’t miss this opportunity. \n🅂🄿🄴🄰🄺🄴🅁 Dr. Abhaybhai Shah \n🔴 Only for Full course mothers 🔴
URL:https://sanskarshakti.org/event/shri-kalpasutra-bhavanuvad-2/2026-05-13/
CATEGORIES:Full course mothers
ATTACH;FMTTYPE=image/jpeg:https://storage.jainebooks.org/sanskarshakti/2024/07/IMG-20240702-124231-593.jpg
LOCATION:https://us02web.zoom.us/j/85394625391
END:VEVENT
BEGIN:VEVENT
DTSTART;TZID=Asia/Kolkata:20260514T143000
DTEND;TZID=Asia/Kolkata:20260514T160000
DTSTAMP:20260421T102323
CREATED:20260421T040843Z
LAST-MODIFIED:20260421T041013Z
UID:10004386-1778769000-1778774400@sanskarshakti.org
SUMMARY:Shri Kalpasutra Bhavanuvad May 2026
DESCRIPTION:🇸 🇭 🇷 🇮 \n🇰 🇦 🇱 🇵 🇦 🇸 🇺 🇹 🇷 🇦   \nSpecially for our Pregnant Mothers \n🤰हर गर्भवती माता को गर्भावस्था में श्री कल्पसूत्र का श्रवण\, पठन एवं अध्ययन करना चाहिए . \nWhat will we learn\n⚜️कल्प सूत्र की प्राचीनता।\n⚜️कल्प सूत्र का महत्व।\n⚜️कल्पसूत्र का वांचन कब से शुरू करना चाहिए।\n⚜️महावीरस्वामी जीवन चरित्र सम्पूर्ण।\n⚜️साधु साध्वीजी के आचार।\n⚜️१४ महास्वप्न विवरण (हर गर्भवती माता को सुनना चाहिए )\n⚜️माता त्रिशला का गर्भ काल\n⚜️प्रभु वीर का जन्म प्रसंग\n⚜️प्रभु वीर का बाल्यकाल  \nइत्यादि समजाएँगे | \nSo don’t miss this opportunity. \n🅂🄿🄴🄰🄺🄴🅁 Dr. Abhaybhai Shah \n🔴 Only for Full course mothers 🔴
URL:https://sanskarshakti.org/event/shri-kalpasutra-bhavanuvad-2/2026-05-14/
CATEGORIES:Full course mothers
ATTACH;FMTTYPE=image/jpeg:https://storage.jainebooks.org/sanskarshakti/2024/07/IMG-20240702-124231-593.jpg
LOCATION:https://us02web.zoom.us/j/85394625391
END:VEVENT
BEGIN:VEVENT
DTSTART;TZID=Asia/Kolkata:20260515T143000
DTEND;TZID=Asia/Kolkata:20260515T160000
DTSTAMP:20260421T102323
CREATED:20260421T040843Z
LAST-MODIFIED:20260421T041013Z
UID:10004387-1778855400-1778860800@sanskarshakti.org
SUMMARY:Shri Kalpasutra Bhavanuvad May 2026
DESCRIPTION:🇸 🇭 🇷 🇮 \n🇰 🇦 🇱 🇵 🇦 🇸 🇺 🇹 🇷 🇦   \nSpecially for our Pregnant Mothers \n🤰हर गर्भवती माता को गर्भावस्था में श्री कल्पसूत्र का श्रवण\, पठन एवं अध्ययन करना चाहिए . \nWhat will we learn\n⚜️कल्प सूत्र की प्राचीनता।\n⚜️कल्प सूत्र का महत्व।\n⚜️कल्पसूत्र का वांचन कब से शुरू करना चाहिए।\n⚜️महावीरस्वामी जीवन चरित्र सम्पूर्ण।\n⚜️साधु साध्वीजी के आचार।\n⚜️१४ महास्वप्न विवरण (हर गर्भवती माता को सुनना चाहिए )\n⚜️माता त्रिशला का गर्भ काल\n⚜️प्रभु वीर का जन्म प्रसंग\n⚜️प्रभु वीर का बाल्यकाल  \nइत्यादि समजाएँगे | \nSo don’t miss this opportunity. \n🅂🄿🄴🄰🄺🄴🅁 Dr. Abhaybhai Shah \n🔴 Only for Full course mothers 🔴
URL:https://sanskarshakti.org/event/shri-kalpasutra-bhavanuvad-2/2026-05-15/
CATEGORIES:Full course mothers
ATTACH;FMTTYPE=image/jpeg:https://storage.jainebooks.org/sanskarshakti/2024/07/IMG-20240702-124231-593.jpg
LOCATION:https://us02web.zoom.us/j/85394625391
END:VEVENT
BEGIN:VEVENT
DTSTART;TZID=Asia/Kolkata:20260516T143000
DTEND;TZID=Asia/Kolkata:20260516T160000
DTSTAMP:20260421T102323
CREATED:20260421T040843Z
LAST-MODIFIED:20260421T041013Z
UID:10004388-1778941800-1778947200@sanskarshakti.org
SUMMARY:Shri Kalpasutra Bhavanuvad May 2026
DESCRIPTION:🇸 🇭 🇷 🇮 \n🇰 🇦 🇱 🇵 🇦 🇸 🇺 🇹 🇷 🇦   \nSpecially for our Pregnant Mothers \n🤰हर गर्भवती माता को गर्भावस्था में श्री कल्पसूत्र का श्रवण\, पठन एवं अध्ययन करना चाहिए . \nWhat will we learn\n⚜️कल्प सूत्र की प्राचीनता।\n⚜️कल्प सूत्र का महत्व।\n⚜️कल्पसूत्र का वांचन कब से शुरू करना चाहिए।\n⚜️महावीरस्वामी जीवन चरित्र सम्पूर्ण।\n⚜️साधु साध्वीजी के आचार।\n⚜️१४ महास्वप्न विवरण (हर गर्भवती माता को सुनना चाहिए )\n⚜️माता त्रिशला का गर्भ काल\n⚜️प्रभु वीर का जन्म प्रसंग\n⚜️प्रभु वीर का बाल्यकाल  \nइत्यादि समजाएँगे | \nSo don’t miss this opportunity. \n🅂🄿🄴🄰🄺🄴🅁 Dr. Abhaybhai Shah \n🔴 Only for Full course mothers 🔴
URL:https://sanskarshakti.org/event/shri-kalpasutra-bhavanuvad-2/2026-05-16/
CATEGORIES:Full course mothers
ATTACH;FMTTYPE=image/jpeg:https://storage.jainebooks.org/sanskarshakti/2024/07/IMG-20240702-124231-593.jpg
LOCATION:https://us02web.zoom.us/j/85394625391
END:VEVENT
BEGIN:VEVENT
DTSTART;TZID=Asia/Kolkata:20260517T143000
DTEND;TZID=Asia/Kolkata:20260517T160000
DTSTAMP:20260421T102323
CREATED:20260421T040843Z
LAST-MODIFIED:20260421T041013Z
UID:10004389-1779028200-1779033600@sanskarshakti.org
SUMMARY:Shri Kalpasutra Bhavanuvad May 2026
DESCRIPTION:🇸 🇭 🇷 🇮 \n🇰 🇦 🇱 🇵 🇦 🇸 🇺 🇹 🇷 🇦   \nSpecially for our Pregnant Mothers \n🤰हर गर्भवती माता को गर्भावस्था में श्री कल्पसूत्र का श्रवण\, पठन एवं अध्ययन करना चाहिए . \nWhat will we learn\n⚜️कल्प सूत्र की प्राचीनता।\n⚜️कल्प सूत्र का महत्व।\n⚜️कल्पसूत्र का वांचन कब से शुरू करना चाहिए।\n⚜️महावीरस्वामी जीवन चरित्र सम्पूर्ण।\n⚜️साधु साध्वीजी के आचार।\n⚜️१४ महास्वप्न विवरण (हर गर्भवती माता को सुनना चाहिए )\n⚜️माता त्रिशला का गर्भ काल\n⚜️प्रभु वीर का जन्म प्रसंग\n⚜️प्रभु वीर का बाल्यकाल  \nइत्यादि समजाएँगे | \nSo don’t miss this opportunity. \n🅂🄿🄴🄰🄺🄴🅁 Dr. Abhaybhai Shah \n🔴 Only for Full course mothers 🔴
URL:https://sanskarshakti.org/event/shri-kalpasutra-bhavanuvad-2/2026-05-17/
CATEGORIES:Full course mothers
ATTACH;FMTTYPE=image/jpeg:https://storage.jainebooks.org/sanskarshakti/2024/07/IMG-20240702-124231-593.jpg
LOCATION:https://us02web.zoom.us/j/85394625391
END:VEVENT
BEGIN:VEVENT
DTSTART;TZID=Asia/Kolkata:20260525T193000
DTEND;TZID=Asia/Kolkata:20260525T213000
DTSTAMP:20260421T102323
CREATED:20260421T043116Z
LAST-MODIFIED:20260421T043424Z
UID:10004390-1779737400-1779744600@sanskarshakti.org
SUMMARY:Shri Veer Prabhu Charitra May 2026
DESCRIPTION:*श्री वीर प्रभु चरित्र *\n(Continued from Shri Kalpasutra Bhavanuvad after prabhu’s birth) \nश्री  कल्पसूत्र में हमने प्रभु महावीर स्वामी के जन्म प्रसंग के बारे में  जाना‌‌।\nउसी श्रृंखला में आगे बढ़ते हुए अब श्री वीर प्रभु चरित्र में हम महावीर स्वामी के अंतिम भव की अनेकों घटनाओ को विस्तारपूर्वक समझेंगे। \nWhat will we learn : \n🔹 प्रभु का जन्म महोत्सव कैसे करते हैं?\n🔹 प्रभु वीर का हालरडा\n🔹 प्रभु वीर की बाल क्रीड़ा\n🔹 प्रभु वीर का लग्नजीवन\n🔹 प्रभु वीर की दीक्षा\n🔹 प्रभु वीर को आए 10 स्वप्न\n🔹 प्रभु वीर को केवलज्ञान\n🔹 प्रभु वीर का निर्वाण\n🔹 पंच कल्याणक स्तवन द्वारा  पांच कल्याणको के बारे में समझना \n🆃🆄🆃🅾🆁 : Meetaben Shah  \n🔴only for full course pregnant mothers.
URL:https://sanskarshakti.org/event/shri-veer-prabhu-charitra-may-2026/2026-05-25/
CATEGORIES:Full course mothers
ATTACH;FMTTYPE=image/jpeg:https://storage.jainebooks.org/sanskarshakti/2025/08/Shri-Veer-Prabhu-Charitra.jpg
LOCATION:https://us02web.zoom.us/j/87457044613
END:VEVENT
BEGIN:VEVENT
DTSTART;TZID=Asia/Kolkata:20260526T193000
DTEND;TZID=Asia/Kolkata:20260526T213000
DTSTAMP:20260421T102323
CREATED:20260421T043116Z
LAST-MODIFIED:20260421T043424Z
UID:10004391-1779823800-1779831000@sanskarshakti.org
SUMMARY:Shri Veer Prabhu Charitra May 2026
DESCRIPTION:*श्री वीर प्रभु चरित्र *\n(Continued from Shri Kalpasutra Bhavanuvad after prabhu’s birth) \nश्री  कल्पसूत्र में हमने प्रभु महावीर स्वामी के जन्म प्रसंग के बारे में  जाना‌‌।\nउसी श्रृंखला में आगे बढ़ते हुए अब श्री वीर प्रभु चरित्र में हम महावीर स्वामी के अंतिम भव की अनेकों घटनाओ को विस्तारपूर्वक समझेंगे। \nWhat will we learn : \n🔹 प्रभु का जन्म महोत्सव कैसे करते हैं?\n🔹 प्रभु वीर का हालरडा\n🔹 प्रभु वीर की बाल क्रीड़ा\n🔹 प्रभु वीर का लग्नजीवन\n🔹 प्रभु वीर की दीक्षा\n🔹 प्रभु वीर को आए 10 स्वप्न\n🔹 प्रभु वीर को केवलज्ञान\n🔹 प्रभु वीर का निर्वाण\n🔹 पंच कल्याणक स्तवन द्वारा  पांच कल्याणको के बारे में समझना \n🆃🆄🆃🅾🆁 : Meetaben Shah  \n🔴only for full course pregnant mothers.
URL:https://sanskarshakti.org/event/shri-veer-prabhu-charitra-may-2026/2026-05-26/
CATEGORIES:Full course mothers
ATTACH;FMTTYPE=image/jpeg:https://storage.jainebooks.org/sanskarshakti/2025/08/Shri-Veer-Prabhu-Charitra.jpg
LOCATION:https://us02web.zoom.us/j/87457044613
END:VEVENT
BEGIN:VEVENT
DTSTART;TZID=Asia/Kolkata:20260527T193000
DTEND;TZID=Asia/Kolkata:20260527T213000
DTSTAMP:20260421T102323
CREATED:20260421T043116Z
LAST-MODIFIED:20260421T043424Z
UID:10004392-1779910200-1779917400@sanskarshakti.org
SUMMARY:Shri Veer Prabhu Charitra May 2026
DESCRIPTION:*श्री वीर प्रभु चरित्र *\n(Continued from Shri Kalpasutra Bhavanuvad after prabhu’s birth) \nश्री  कल्पसूत्र में हमने प्रभु महावीर स्वामी के जन्म प्रसंग के बारे में  जाना‌‌।\nउसी श्रृंखला में आगे बढ़ते हुए अब श्री वीर प्रभु चरित्र में हम महावीर स्वामी के अंतिम भव की अनेकों घटनाओ को विस्तारपूर्वक समझेंगे। \nWhat will we learn : \n🔹 प्रभु का जन्म महोत्सव कैसे करते हैं?\n🔹 प्रभु वीर का हालरडा\n🔹 प्रभु वीर की बाल क्रीड़ा\n🔹 प्रभु वीर का लग्नजीवन\n🔹 प्रभु वीर की दीक्षा\n🔹 प्रभु वीर को आए 10 स्वप्न\n🔹 प्रभु वीर को केवलज्ञान\n🔹 प्रभु वीर का निर्वाण\n🔹 पंच कल्याणक स्तवन द्वारा  पांच कल्याणको के बारे में समझना \n🆃🆄🆃🅾🆁 : Meetaben Shah  \n🔴only for full course pregnant mothers.
URL:https://sanskarshakti.org/event/shri-veer-prabhu-charitra-may-2026/2026-05-27/
CATEGORIES:Full course mothers
ATTACH;FMTTYPE=image/jpeg:https://storage.jainebooks.org/sanskarshakti/2025/08/Shri-Veer-Prabhu-Charitra.jpg
LOCATION:https://us02web.zoom.us/j/87457044613
END:VEVENT
BEGIN:VEVENT
DTSTART;TZID=Asia/Kolkata:20260528T193000
DTEND;TZID=Asia/Kolkata:20260528T213000
DTSTAMP:20260421T102323
CREATED:20260421T043116Z
LAST-MODIFIED:20260421T043424Z
UID:10004393-1779996600-1780003800@sanskarshakti.org
SUMMARY:Shri Veer Prabhu Charitra May 2026
DESCRIPTION:*श्री वीर प्रभु चरित्र *\n(Continued from Shri Kalpasutra Bhavanuvad after prabhu’s birth) \nश्री  कल्पसूत्र में हमने प्रभु महावीर स्वामी के जन्म प्रसंग के बारे में  जाना‌‌।\nउसी श्रृंखला में आगे बढ़ते हुए अब श्री वीर प्रभु चरित्र में हम महावीर स्वामी के अंतिम भव की अनेकों घटनाओ को विस्तारपूर्वक समझेंगे। \nWhat will we learn : \n🔹 प्रभु का जन्म महोत्सव कैसे करते हैं?\n🔹 प्रभु वीर का हालरडा\n🔹 प्रभु वीर की बाल क्रीड़ा\n🔹 प्रभु वीर का लग्नजीवन\n🔹 प्रभु वीर की दीक्षा\n🔹 प्रभु वीर को आए 10 स्वप्न\n🔹 प्रभु वीर को केवलज्ञान\n🔹 प्रभु वीर का निर्वाण\n🔹 पंच कल्याणक स्तवन द्वारा  पांच कल्याणको के बारे में समझना \n🆃🆄🆃🅾🆁 : Meetaben Shah  \n🔴only for full course pregnant mothers.
URL:https://sanskarshakti.org/event/shri-veer-prabhu-charitra-may-2026/2026-05-28/
CATEGORIES:Full course mothers
ATTACH;FMTTYPE=image/jpeg:https://storage.jainebooks.org/sanskarshakti/2025/08/Shri-Veer-Prabhu-Charitra.jpg
LOCATION:https://us02web.zoom.us/j/87457044613
END:VEVENT
BEGIN:VEVENT
DTSTART;TZID=Asia/Kolkata:20260529T193000
DTEND;TZID=Asia/Kolkata:20260529T213000
DTSTAMP:20260421T102323
CREATED:20260421T043116Z
LAST-MODIFIED:20260421T043424Z
UID:10004394-1780083000-1780090200@sanskarshakti.org
SUMMARY:Shri Veer Prabhu Charitra May 2026
DESCRIPTION:*श्री वीर प्रभु चरित्र *\n(Continued from Shri Kalpasutra Bhavanuvad after prabhu’s birth) \nश्री  कल्पसूत्र में हमने प्रभु महावीर स्वामी के जन्म प्रसंग के बारे में  जाना‌‌।\nउसी श्रृंखला में आगे बढ़ते हुए अब श्री वीर प्रभु चरित्र में हम महावीर स्वामी के अंतिम भव की अनेकों घटनाओ को विस्तारपूर्वक समझेंगे। \nWhat will we learn : \n🔹 प्रभु का जन्म महोत्सव कैसे करते हैं?\n🔹 प्रभु वीर का हालरडा\n🔹 प्रभु वीर की बाल क्रीड़ा\n🔹 प्रभु वीर का लग्नजीवन\n🔹 प्रभु वीर की दीक्षा\n🔹 प्रभु वीर को आए 10 स्वप्न\n🔹 प्रभु वीर को केवलज्ञान\n🔹 प्रभु वीर का निर्वाण\n🔹 पंच कल्याणक स्तवन द्वारा  पांच कल्याणको के बारे में समझना \n🆃🆄🆃🅾🆁 : Meetaben Shah  \n🔴only for full course pregnant mothers.
URL:https://sanskarshakti.org/event/shri-veer-prabhu-charitra-may-2026/2026-05-29/
CATEGORIES:Full course mothers
ATTACH;FMTTYPE=image/jpeg:https://storage.jainebooks.org/sanskarshakti/2025/08/Shri-Veer-Prabhu-Charitra.jpg
LOCATION:https://us02web.zoom.us/j/87457044613
END:VEVENT
END:VCALENDAR