BEGIN:VCALENDAR
VERSION:2.0
PRODID:-//Sanskar Shakti - Garbh Sanskar - ECPv6.13.2.1//NONSGML v1.0//EN
CALSCALE:GREGORIAN
METHOD:PUBLISH
X-ORIGINAL-URL:https://sanskarshakti.org
X-WR-CALDESC:Events for Sanskar Shakti - Garbh Sanskar
REFRESH-INTERVAL;VALUE=DURATION:PT1H
X-Robots-Tag:noindex
X-PUBLISHED-TTL:PT1H
BEGIN:VTIMEZONE
TZID:Asia/Kolkata
BEGIN:STANDARD
TZOFFSETFROM:+0530
TZOFFSETTO:+0530
TZNAME:IST
DTSTART:20240101T000000
END:STANDARD
END:VTIMEZONE
BEGIN:VEVENT
DTSTART;TZID=Asia/Kolkata:20240919T140000
DTEND;TZID=Asia/Kolkata:20240919T160000
DTSTAMP:20260420T030940
CREATED:20240901T064119Z
LAST-MODIFIED:20240901T064119Z
UID:10003486-1726754400-1726761600@sanskarshakti.org
SUMMARY:Supatra Daan
DESCRIPTION:#spiritualsession\nFor our SSK Full Course pregnant mothers. \nसुपात्र दान विवेक  \n⚜️Get ready for wonderful session on SUPATRA DAAN. \n⚜️How to give supatra daan ? \n⚜️What things you must take care during supatra daan? \n⚜️What are the common mistakes we make during supatra daan? \n⚜️Benefits of supatra daan ? \nLet’s learn the basics of supatra daan in this session. \n🅃🅄🅃🄾🅁 Trupti ben \n🔴 Only for full course pregnant mothers
URL:https://sanskarshakti.org/event/supatra-daan/2024-09-19/
CATEGORIES:Full course mothers
ATTACH;FMTTYPE=image/jpeg:https://storage.jainebooks.org/sanskarshakti/2024/08/IMG-20240901-120935-536.jpg
LOCATION:https://us02web.zoom.us/j/81051377019
END:VEVENT
END:VCALENDAR