BEGIN:VCALENDAR
VERSION:2.0
PRODID:-//Sanskar Shakti - Garbh Sanskar - ECPv6.13.2.1//NONSGML v1.0//EN
CALSCALE:GREGORIAN
METHOD:PUBLISH
X-ORIGINAL-URL:https://sanskarshakti.org
X-WR-CALDESC:Events for Sanskar Shakti - Garbh Sanskar
REFRESH-INTERVAL;VALUE=DURATION:PT1H
X-Robots-Tag:noindex
X-PUBLISHED-TTL:PT1H
BEGIN:VTIMEZONE
TZID:Asia/Kolkata
BEGIN:STANDARD
TZOFFSETFROM:+0530
TZOFFSETTO:+0530
TZNAME:IST
DTSTART:20240101T000000
END:STANDARD
END:VTIMEZONE
BEGIN:VEVENT
DTSTART;TZID=Asia/Kolkata:20240913T203000
DTEND;TZID=Asia/Kolkata:20240913T213000
DTSTAMP:20260420T000304
CREATED:20240901T064359Z
LAST-MODIFIED:20240901T064359Z
UID:10003485-1726259400-1726263000@sanskarshakti.org
SUMMARY:Spiritual Aspect in Pregnancy
DESCRIPTION:𝐒𝐚𝐧𝐬𝐤𝐚𝐫 𝐒𝐡𝐚𝐤𝐭𝐢 𝐩𝐫𝐞𝐬𝐞𝐧𝐭𝐬 \nᏕᏢᎨᏒᎨᎿᏬᎯᏝ                     \n         ᎯᏕᏢᎬᏨᎿᏕ   ᎨᏁ            \n                     ᏢᏒᎬᎶᏁᎯᏁᏨᎽ \n👉Topics to cover. \n🏵1. Why people insist to be more spiritual in pregnancy  \n🏵2. What is the logic for spiritual activities. \n🏵3. What type of things can be more fruitful. \n🏵4. Impact on baby \nSo join with us on 👇 \n🆃🆄🆃🅾🆁: Dr.Jolly Parikh \n🔴only for full course pregnant mothers
URL:https://sanskarshakti.org/event/spiritual-aspect-in-pregnancy/
CATEGORIES:Full course mothers
ATTACH;FMTTYPE=image/jpeg:https://storage.jainebooks.org/sanskarshakti/2024/08/IMG-20240901-121157-272.jpg
LOCATION:https://us02web.zoom.us/j/86513119962
END:VEVENT
END:VCALENDAR