BEGIN:VCALENDAR
VERSION:2.0
PRODID:-//Sanskar Shakti - Garbh Sanskar - ECPv6.13.2.1//NONSGML v1.0//EN
CALSCALE:GREGORIAN
METHOD:PUBLISH
X-ORIGINAL-URL:https://sanskarshakti.org
X-WR-CALDESC:Events for Sanskar Shakti - Garbh Sanskar
REFRESH-INTERVAL;VALUE=DURATION:PT1H
X-Robots-Tag:noindex
X-PUBLISHED-TTL:PT1H
BEGIN:VTIMEZONE
TZID:Asia/Kolkata
BEGIN:STANDARD
TZOFFSETFROM:+0530
TZOFFSETTO:+0530
TZNAME:IST
DTSTART:20240101T000000
END:STANDARD
END:VTIMEZONE
BEGIN:VEVENT
DTSTART;TZID=Asia/Kolkata:20240813T203000
DTEND;TZID=Asia/Kolkata:20240813T213000
DTSTAMP:20260419T222945
CREATED:20240806T080107Z
LAST-MODIFIED:20240806T080107Z
UID:10003482-1723581000-1723584600@sanskarshakti.org
SUMMARY:How To Be Pleased with Bedrest
DESCRIPTION:Sanskar Shakti presents a session  on  \n🅷🅾🆆 🆃🅾 🅱🅴 🅿🅻🅴🅰🆂🅴🅳 🆆🅸🆃🅷 🅱🅴🅳🆁🅴🆂🆃 \n💠Points we will focus on:💠 \n👉 What is exactly the bed rest ? \n👉 Bedrest routine \n👉 Engaging and Joyful activities  \n👉 Do’s and. Don’ts \n🅂🄿🄴🄰🄺🄴🅁 Dr. Jolly Parikh   \n🔴 Only for full course pregnant mothers🔴
URL:https://sanskarshakti.org/event/how-to-be-pleased-with-bedrest/
CATEGORIES:Full course mothers
ATTACH;FMTTYPE=image/jpeg:https://storage.jainebooks.org/sanskarshakti/2024/08/bedrest-169.jpg
LOCATION:https://us02web.zoom.us/j/81029837177
END:VEVENT
END:VCALENDAR