BEGIN:VCALENDAR
VERSION:2.0
PRODID:-//Sanskar Shakti - Garbh Sanskar - ECPv6.13.2.1//NONSGML v1.0//EN
CALSCALE:GREGORIAN
METHOD:PUBLISH
X-ORIGINAL-URL:https://sanskarshakti.org
X-WR-CALDESC:Events for Sanskar Shakti - Garbh Sanskar
REFRESH-INTERVAL;VALUE=DURATION:PT1H
X-Robots-Tag:noindex
X-PUBLISHED-TTL:PT1H
BEGIN:VTIMEZONE
TZID:Asia/Kolkata
BEGIN:STANDARD
TZOFFSETFROM:+0530
TZOFFSETTO:+0530
TZNAME:IST
DTSTART:20240101T000000
END:STANDARD
END:VTIMEZONE
BEGIN:VEVENT
DTSTART;TZID=Asia/Kolkata:20240722T143000
DTEND;TZID=Asia/Kolkata:20240722T163000
DTSTAMP:20260419T235652
CREATED:20240702T072136Z
LAST-MODIFIED:20240725T041539Z
UID:10003095-1721658600-1721665800@sanskarshakti.org
SUMMARY:Shri Kalpasutra
DESCRIPTION:🇸 🇭 🇷 🇮 \n🇰 🇦 🇱 🇵 🇦 🇸 🇺 🇹 🇷 🇦   \nSpecially for our Pregnant Mothers \n🤰हर गर्भवती माता को गर्भावस्था में श्री कल्पसूत्र का श्रवण\, पठन एवं अध्ययन करना चाहिए . \nWhat will we learn\n⚜️कल्प सूत्र की प्राचीनता।\n⚜️कल्प सूत्र का महत्व।\n⚜️कल्पसूत्र का वांचन कब से शुरू करना चाहिए।\n⚜️महावीरस्वामी जीवन चरित्र सम्पूर्ण।\n⚜️साधु साध्वीजी के आचार।\n⚜️१४ महास्वप्न विवरण (हर गर्भवती माता को सुनना चाहिए )\n⚜️माता त्रिशला का गर्भ काल\n⚜️प्रभु वीर का जन्म प्रसंग\n⚜️प्रभु वीर का बाल्यकाल  \nइत्यादि समजाएँगे | \nSo don’t miss this opportunity. \n🅂🄿🄴🄰🄺🄴🅁 Dr. Abhaybhai Shah   \n🔴 Only for Full course mothers 🔴
URL:https://sanskarshakti.org/event/shri-kalpasutra/2024-07-22/
CATEGORIES:Full course mothers
ATTACH;FMTTYPE=image/jpeg:https://storage.jainebooks.org/sanskarshakti/2024/07/IMG-20240702-124231-593.jpg
LOCATION:https://us02web.zoom.us/j/89355436859
END:VEVENT
END:VCALENDAR