BEGIN:VCALENDAR
VERSION:2.0
PRODID:-//Sanskar Shakti - Garbh Sanskar - ECPv6.13.2.1//NONSGML v1.0//EN
CALSCALE:GREGORIAN
METHOD:PUBLISH
X-WR-CALNAME:Sanskar Shakti - Garbh Sanskar
X-ORIGINAL-URL:https://sanskarshakti.org
X-WR-CALDESC:Events for Sanskar Shakti - Garbh Sanskar
REFRESH-INTERVAL;VALUE=DURATION:PT1H
X-Robots-Tag:noindex
X-PUBLISHED-TTL:PT1H
BEGIN:VTIMEZONE
TZID:Asia/Kolkata
BEGIN:STANDARD
TZOFFSETFROM:+0530
TZOFFSETTO:+0530
TZNAME:IST
DTSTART:20240101T000000
END:STANDARD
END:VTIMEZONE
BEGIN:VEVENT
DTSTART;TZID=Asia/Kolkata:20240718T193000
DTEND;TZID=Asia/Kolkata:20240718T210000
DTSTAMP:20260419T235434
CREATED:20240704T125908Z
LAST-MODIFIED:20240704T125908Z
UID:10003092-1721331000-1721336400@sanskarshakti.org
SUMMARY:Paper String Art
DESCRIPTION:Sanskar Shakti presents \n🅟🅐🅟🅔🅡 🅢🅣🅡🅘🅝🅖 🅐🅡🅣 \n💠Advantage of learning art during pregnancy💠 \n✨Creativity\n✨Concentration\n✨Patience\n✨Positivity\n✨Stress buster \n💠Materials required💠 \n1. A4 size drawing paper (thick)\n2. Cotton Embroidery Thread\n(Pink\, blue\, black\, red)\n3. Normal Needle\n4. Pencil\n5. Eraser\n6. Sketchpens \n🆃🆄🆃🅾🆁: Ms. Riya Shah  \n🔴only for full course pregnant mothers🔴
URL:https://sanskarshakti.org/event/paper-string-art/
CATEGORIES:Full course mothers
ATTACH;FMTTYPE=image/jpeg:https://storage.jainebooks.org/sanskarshakti/2024/07/IMG-20240704-182555-387.jpg
LOCATION:https://us02web.zoom.us/j/88084435808
END:VEVENT
END:VCALENDAR