BEGIN:VCALENDAR
VERSION:2.0
PRODID:-//Sanskar Shakti - Garbh Sanskar - ECPv6.13.2.1//NONSGML v1.0//EN
CALSCALE:GREGORIAN
METHOD:PUBLISH
X-ORIGINAL-URL:https://sanskarshakti.org
X-WR-CALDESC:Events for Sanskar Shakti - Garbh Sanskar
REFRESH-INTERVAL;VALUE=DURATION:PT1H
X-Robots-Tag:noindex
X-PUBLISHED-TTL:PT1H
BEGIN:VTIMEZONE
TZID:Asia/Kolkata
BEGIN:STANDARD
TZOFFSETFROM:+0530
TZOFFSETTO:+0530
TZNAME:IST
DTSTART:20240101T000000
END:STANDARD
END:VTIMEZONE
BEGIN:VEVENT
DTSTART;TZID=Asia/Kolkata:20240621T210000
DTEND;TZID=Asia/Kolkata:20240621T220000
DTSTAMP:20260420T025026
CREATED:20240618T082717Z
LAST-MODIFIED:20240618T082717Z
UID:10003087-1719003600-1719007200@sanskarshakti.org
SUMMARY:International Yoga Day Celebration
DESCRIPTION:*Celebration of international yoga day for SSK Mothers*  \nIn honour of our Indian roots \, let’s meet on the longest day of the year for Prenatal yoga. \n*We will cover*  \n•Sukshma vyayam\n•Relaxation  \nThis sequence is a curated combination for strength building and complete relaxation of the small joints and ligaments. \nSo let’s connect and rejuvenate with the baby . \n💻📱 *Live on Zoom*\nBy: Dr Jolly Parikh and Sanjana shah \n🔴 *ONLY FOR FULL COURSE PREGNANT MOTHERS*
URL:https://sanskarshakti.org/event/international-yoga-day-celebration/
CATEGORIES:Full course mothers
ATTACH;FMTTYPE=image/jpeg:https://storage.jainebooks.org/sanskarshakti/2024/06/IMG-20240618-135448-315.jpg
LOCATION:https://us02web.zoom.us/j/81556074846
END:VEVENT
END:VCALENDAR