BEGIN:VCALENDAR
VERSION:2.0
PRODID:-//Sanskar Shakti - Garbh Sanskar - ECPv6.13.2.1//NONSGML v1.0//EN
CALSCALE:GREGORIAN
METHOD:PUBLISH
X-WR-CALNAME:Sanskar Shakti - Garbh Sanskar
X-ORIGINAL-URL:https://sanskarshakti.org
X-WR-CALDESC:Events for Sanskar Shakti - Garbh Sanskar
REFRESH-INTERVAL;VALUE=DURATION:PT1H
X-Robots-Tag:noindex
X-PUBLISHED-TTL:PT1H
BEGIN:VTIMEZONE
TZID:Asia/Kolkata
BEGIN:STANDARD
TZOFFSETFROM:+0530
TZOFFSETTO:+0530
TZNAME:IST
DTSTART:20240101T000000
END:STANDARD
END:VTIMEZONE
BEGIN:VEVENT
DTSTART;TZID=Asia/Kolkata:20240613T143000
DTEND;TZID=Asia/Kolkata:20240613T163000
DTSTAMP:20260420T013955
CREATED:20240526T185619Z
LAST-MODIFIED:20240526T185619Z
UID:10002173-1718289000-1718296200@sanskarshakti.org
SUMMARY:Shri Bharat Chakravarti Charitra
DESCRIPTION:🆂🅷🆁🅸\n🅱🅷🅰🆁🅰🆃\n🅲🅷🅰🅺🆁🅰🆅🅰🆁🆃🅸\n🅲🅷🅰🆁🅸🆃🅽🅰 \nप्रेग्नैंसी में त्रिषष्ठिशलाका पुरुष चरित्र सुनना चाहिए।\nत्रिषष्ठिशलाका पुरुष चरित्र में १२ चक्रवर्ती होते है।\nक्या आप को पता है?\n💠 अवसरपिर्णि काल के सर्व प्रथम चक्रवर्ती कौन है?\n💠राई प्रतिक्रमण मे भरहेसर की सज्ज़ाय मे चतुर्विध संघ सबसे पहले कौनसे महापुरुष को याद करते है?\n💠 भारत देश का नाम कौन से राजा से प्रसिद्ध हुआ?\n💠 अष्टापद पर्वत पर जिनालय किसने बनवाया?\n💠शत्रुंजय का प्रथम उद्धार किसने किया?\n💠अवसरपिर्णि काल में  पहेला छ: री पालित संघ किसने निकाला?\n💠आरिसाभवन मे गृहस्थ अवस्था मे केवलज्ञान किसको हुआ?  \nआइए यह जानने के लिए सुनते है\n     *”श्री भरत चक्रवर्ती चरित्र* ” \n🆃🆄🆃🅾🆁 : Meetaben Shah \n🔴Only for full course pregnant mothers🔴
URL:https://sanskarshakti.org/event/shri-bharat-chakravarti-charitra/2024-06-13/
CATEGORIES:Full course mothers
ATTACH;FMTTYPE=image/jpeg:https://storage.jainebooks.org/sanskarshakti/2024/05/IMG-20240527-002108-007.jpg
LOCATION:https://us02web.zoom.us/j/88044516128
END:VEVENT
END:VCALENDAR