BEGIN:VCALENDAR
VERSION:2.0
PRODID:-//Sanskar Shakti - Garbh Sanskar - ECPv6.13.2.1//NONSGML v1.0//EN
CALSCALE:GREGORIAN
METHOD:PUBLISH
X-ORIGINAL-URL:https://sanskarshakti.org
X-WR-CALDESC:Events for Sanskar Shakti - Garbh Sanskar
REFRESH-INTERVAL;VALUE=DURATION:PT1H
X-Robots-Tag:noindex
X-PUBLISHED-TTL:PT1H
BEGIN:VTIMEZONE
TZID:Asia/Kolkata
BEGIN:STANDARD
TZOFFSETFROM:+0530
TZOFFSETTO:+0530
TZNAME:IST
DTSTART:20240101T000000
END:STANDARD
END:VTIMEZONE
BEGIN:VEVENT
DTSTART;TZID=Asia/Kolkata:20240606T193000
DTEND;TZID=Asia/Kolkata:20240606T203000
DTSTAMP:20260420T013501
CREATED:20240531T092322Z
LAST-MODIFIED:20240531T092322Z
UID:10003080-1717702200-1717705800@sanskarshakti.org
SUMMARY:Do's And Dont's of Delivery
DESCRIPTION:Worried about your Delivery?  \nDo you want to have natural labour? \nDo you want to have the least intervention in your labour?  \nThen\,\n📢 Join Us for live seasion on  \n🄳🄾’🅂 🄰🄽🄳 🄳🄾🄽’🅃🅂\n🄾🄵 🄳🄴🄻🄸🅅🄴🅁🅈 \nWe’ll cover everything you need to know for a safe and successful childbirth experience\, including: \n– How to get ready for the big day?\n– What to do during labor to ensure a smooth process?\n– Common mistakes to avoid.  \nMark your calendars and be prepared to gain valuable insights! \nSee you there! \n🅂🄿🄴🄰🄺🄴🅁 Dr. Kalpa Shah \n🔴 Only For Full Course Mothers 🔴
URL:https://sanskarshakti.org/event/dos-and-donts-of-delivery/
CATEGORIES:Full course mothers
ATTACH;FMTTYPE=image/jpeg:https://storage.jainebooks.org/sanskarshakti/2024/05/IMG-20240531-145010-546.jpg
LOCATION:https://us02web.zoom.us/j/81066803359
END:VEVENT
END:VCALENDAR