BEGIN:VCALENDAR
VERSION:2.0
PRODID:-//Sanskar Shakti - Garbh Sanskar - ECPv6.13.2.1//NONSGML v1.0//EN
CALSCALE:GREGORIAN
METHOD:PUBLISH
X-ORIGINAL-URL:https://sanskarshakti.org
X-WR-CALDESC:Events for Sanskar Shakti - Garbh Sanskar
REFRESH-INTERVAL;VALUE=DURATION:PT1H
X-Robots-Tag:noindex
X-PUBLISHED-TTL:PT1H
BEGIN:VTIMEZONE
TZID:Asia/Kolkata
BEGIN:STANDARD
TZOFFSETFROM:+0530
TZOFFSETTO:+0530
TZNAME:IST
DTSTART:20240101T000000
END:STANDARD
END:VTIMEZONE
BEGIN:VEVENT
DTSTART;TZID=Asia/Kolkata:20240411T203000
DTEND;TZID=Asia/Kolkata:20240411T213000
DTSTAMP:20260420T040922
CREATED:20240404T085247Z
LAST-MODIFIED:20240419T113320Z
UID:10002141-1712867400-1712871000@sanskarshakti.org
SUMMARY:Baby Talking : Bonding with the Unborn
DESCRIPTION:𝔸𝕣𝕖 𝕪𝕠𝕦𝕣 𝕖𝕩𝕔𝕚𝕥𝕖𝕕 𝕗𝕠𝕣 𝕒𝕟𝕠𝕥𝕙𝕖𝕣 𝕚𝕟𝕥𝕖𝕣𝕖𝕤𝕥𝕚𝕟𝕘 𝕤𝕖𝕤𝕤𝕚𝕠𝕟 ??  \nSanskar Shakti presents garbhsanskar session on\n🄱🄰🄱🅈 🅃🄰🄻🄺🄸🄽🄶 :\n🄱🄾 🄽🄳🄸🄽🄶 🅆🄸🅃🄷 🅃🄷🄴 🅄🄽🄱🄾🅁🄽 \n💠Points we will cover 💠 \n⚜️ Why baby talking is a heart of pregnancy ?  \n⚜️ How you can use it as a therapy? \n⚜️What we can share through baby talking ? \n⚜️Live Baby talking experience. \n𝕋𝕙𝕖𝕟 𝕤𝕒𝕧𝕖 𝕥𝕙𝕖 𝕕𝕒𝕥𝕖 & 𝕥𝕚𝕞𝕖…  \n🅂🄿🄴🄰🄺🄴🅁 Dr. Jolly Parikh \n🔴 Only For Full course pregnant mothers 🔴
URL:https://sanskarshakti.org/event/baby-talking-bonding-with-the-unborn/
CATEGORIES:Full course mothers
ATTACH;FMTTYPE=image/jpeg:https://storage.jainebooks.org/sanskarshakti/2024/04/baby-talking-169-20240418-132309-0000.jpg
LOCATION:https://us02web.zoom.us/j/84054328998
END:VEVENT
END:VCALENDAR