BEGIN:VCALENDAR
VERSION:2.0
PRODID:-//Sanskar Shakti - Garbh Sanskar - ECPv6.13.2.1//NONSGML v1.0//EN
CALSCALE:GREGORIAN
METHOD:PUBLISH
X-WR-CALNAME:Sanskar Shakti - Garbh Sanskar
X-ORIGINAL-URL:https://sanskarshakti.org
X-WR-CALDESC:Events for Sanskar Shakti - Garbh Sanskar
REFRESH-INTERVAL;VALUE=DURATION:PT1H
X-Robots-Tag:noindex
X-PUBLISHED-TTL:PT1H
BEGIN:VTIMEZONE
TZID:Asia/Kolkata
BEGIN:STANDARD
TZOFFSETFROM:+0530
TZOFFSETTO:+0530
TZNAME:IST
DTSTART:20240101T000000
END:STANDARD
END:VTIMEZONE
BEGIN:VEVENT
DTSTART;TZID=Asia/Kolkata:20240810T110000
DTEND;TZID=Asia/Kolkata:20240810T123000
DTSTAMP:20260419T203121
CREATED:20240804T094834Z
LAST-MODIFIED:20240804T094834Z
UID:10003481-1723287600-1723293000@sanskarshakti.org
SUMMARY:Landscape Painting
DESCRIPTION:Sanskar Shakti Presents Creative Session \n🄻🄰🄽🄳🅂🄲🄰🄿🄴   🄿🄰🄸🄽🅃🄸🄽🄶\n(💞 Couple Painting Session💞) \n2 Partners 2 creativity\n1 Painting  \n🖌️🎨Painting together to match each other’s creativity\, making fun of each other & bonding the great Chemistry at the same time is soo much  fun.. \nExploring art and creative side of your partner together is an experience you must have … \n🤩#Pregnancy_couplegoals🤩 \nMaterials Required :\n👉🏻Acrylic colours\n(Ultra marine blue 🔵White ⚪Black  ⚫\nTeal blue 🟢Dark Purple 🔵- All colours mentioned here will be needed)\n👉🏻Paintbrushes\n(Flat brush no.4 & Round brush no.0)\n👉🏻2 Canvas boards – size: 12*10 inch\n(1 each for both partners)\n👉🏻Water bowl – Rough cloth – Colour palette\n👉🏻Adhesive tape\n👉🏻 bangle or vati to make circle \n🅃🅄🅃🄾🅁 Dr. Amruta Gosar \n🔴 Only for full course pregnant participants 🔴
URL:https://sanskarshakti.org/event/landscape-painting/
CATEGORIES:Full course mothers
ATTACH;FMTTYPE=image/jpeg:https://storage.jainebooks.org/sanskarshakti/2024/08/IMG-20240804-131626-490.jpg
LOCATION:https://us02web.zoom.us/j/85308278316
END:VEVENT
BEGIN:VEVENT
DTSTART;TZID=Asia/Kolkata:20240813T203000
DTEND;TZID=Asia/Kolkata:20240813T213000
DTSTAMP:20260419T203121
CREATED:20240806T080107Z
LAST-MODIFIED:20240806T080107Z
UID:10003482-1723581000-1723584600@sanskarshakti.org
SUMMARY:How To Be Pleased with Bedrest
DESCRIPTION:Sanskar Shakti presents a session  on  \n🅷🅾🆆 🆃🅾 🅱🅴 🅿🅻🅴🅰🆂🅴🅳 🆆🅸🆃🅷 🅱🅴🅳🆁🅴🆂🆃 \n💠Points we will focus on:💠 \n👉 What is exactly the bed rest ? \n👉 Bedrest routine \n👉 Engaging and Joyful activities  \n👉 Do’s and. Don’ts \n🅂🄿🄴🄰🄺🄴🅁 Dr. Jolly Parikh   \n🔴 Only for full course pregnant mothers🔴
URL:https://sanskarshakti.org/event/how-to-be-pleased-with-bedrest/
CATEGORIES:Full course mothers
ATTACH;FMTTYPE=image/jpeg:https://storage.jainebooks.org/sanskarshakti/2024/08/bedrest-169.jpg
LOCATION:https://us02web.zoom.us/j/81029837177
END:VEVENT
BEGIN:VEVENT
DTSTART;TZID=Asia/Kolkata:20240815T200000
DTEND;TZID=Asia/Kolkata:20240815T220000
DTSTAMP:20260419T203121
CREATED:20240730T164302Z
LAST-MODIFIED:20240731T115831Z
UID:10003471-1723752000-1723759200@sanskarshakti.org
SUMMARY:Halarda Singing
DESCRIPTION:Sanskar Shakti presents a session on: \n🅷🅰🅻🅰🆁🅳🅰 🆂🅸🅽🅶🅸🅽🅶 \n#Halarda #Lullaby singing  \n🔴In this session you will learn different halarda/lullabies.\n.\n🎶ᏆᎷᏢϴᎡͲᎪΝᏟᎬ ϴҒ ᎻᎪᏞᎪᎡᎠᎪ🎵 \n⚜️ माता ने बालक के लिए गाई हुई लोरी बालक के विकास के लिए श्रेष्ठ रसायण है।\n⚜️विश्वके Best मे Best संगीत की असर से भी लोरी (हालरडा) की असर बालक पर अनेक गुणा ज्यादा होती है।\n⚜️हालरडा द्वारा माता और बालक के बीच आत्मीय संबंध ज्यादा गाढ़ होते है।\nAnd\n.\n.\nThe most important\n⚜️बालक को सुलाने के काम आती है।  \n🅃🅄🅃🄾🅁  Bhavikaben Shah & Grishmaben Sangoi\n🅅🄴🄽🅄🄴 💻 ᝪᑎ Ꮓᝪᝪᗰ   \n🔴 Only for full course mothers. 🔴
URL:https://sanskarshakti.org/event/halarda-singing/2024-08-15/
CATEGORIES:Full course mothers
ATTACH;FMTTYPE=image/jpeg:https://storage.jainebooks.org/sanskarshakti/2024/07/IMG-20240730-220103-667.jpg
LOCATION:https://us02web.zoom.us/j/83688249415
END:VEVENT
BEGIN:VEVENT
DTSTART;TZID=Asia/Kolkata:20240816T200000
DTEND;TZID=Asia/Kolkata:20240816T220000
DTSTAMP:20260419T203121
CREATED:20240730T164302Z
LAST-MODIFIED:20240731T115831Z
UID:10003472-1723838400-1723845600@sanskarshakti.org
SUMMARY:Halarda Singing
DESCRIPTION:Sanskar Shakti presents a session on: \n🅷🅰🅻🅰🆁🅳🅰 🆂🅸🅽🅶🅸🅽🅶 \n#Halarda #Lullaby singing  \n🔴In this session you will learn different halarda/lullabies.\n.\n🎶ᏆᎷᏢϴᎡͲᎪΝᏟᎬ ϴҒ ᎻᎪᏞᎪᎡᎠᎪ🎵 \n⚜️ माता ने बालक के लिए गाई हुई लोरी बालक के विकास के लिए श्रेष्ठ रसायण है।\n⚜️विश्वके Best मे Best संगीत की असर से भी लोरी (हालरडा) की असर बालक पर अनेक गुणा ज्यादा होती है।\n⚜️हालरडा द्वारा माता और बालक के बीच आत्मीय संबंध ज्यादा गाढ़ होते है।\nAnd\n.\n.\nThe most important\n⚜️बालक को सुलाने के काम आती है।  \n🅃🅄🅃🄾🅁  Bhavikaben Shah & Grishmaben Sangoi\n🅅🄴🄽🅄🄴 💻 ᝪᑎ Ꮓᝪᝪᗰ   \n🔴 Only for full course mothers. 🔴
URL:https://sanskarshakti.org/event/halarda-singing/2024-08-16/
CATEGORIES:Full course mothers
ATTACH;FMTTYPE=image/jpeg:https://storage.jainebooks.org/sanskarshakti/2024/07/IMG-20240730-220103-667.jpg
LOCATION:https://us02web.zoom.us/j/83688249415
END:VEVENT
BEGIN:VEVENT
DTSTART;TZID=Asia/Kolkata:20240820T143000
DTEND;TZID=Asia/Kolkata:20240820T163000
DTSTAMP:20260419T203121
CREATED:20240729T100531Z
LAST-MODIFIED:20240730T164417Z
UID:10003103-1724164200-1724171400@sanskarshakti.org
SUMMARY:Paryushan Kartavya
DESCRIPTION:Sanskar Shakti Presents \n🅿🅰🆁🆈🆄🆂🅷🅰🅽 🅺🅰🆁🆃🅰🆅🆈🅰 \n💠क्या आप जानते हैं?💠 \n👉 पर्युषण को पर्वाधिराज क्यों कहा गया है ? \n👉 महापर्व पर्युषण की आराधना हमें कैसे करनी चाहिए? \n👉 क्या आप सबको पता है पर्युषण महापर्व में हमें कौन-से पांच कर्तव्य का पालन करना होता है ? \n👉 क्या आप जानते हो पूरे वर्ष दरमियान हमें कौन-से ग्यारह कर्तव्य का पालन करना होता है ? \n👉 सच्ची क्षमापना किसे कहते हैं। \n👉 चंपा श्राविका \, कुमारपाल राजा\, भरत चक्रवर्ती\, शांतनु सेठ\, नागकेतु \, लक्ष्मणा साध्वी जी\, मृगावती आदि ने पर्युषण के कर्तव्य को कैसे निभाया यह सब जानना है ? \nऔर हां यह सभी का नाता सम्यक दर्शन के साथ है\, तो ऐसे सम्यक दर्शन की प्राप्ति पर्युषण महापर्व की आराधना द्वारा करनी है ? \nइस साल के पर्युषण महापर्व आपको और आपके  गर्भस्थ बालक की मोक्ष यात्रा को  नजदीक लेकर आए ऐसा बनाना है ? \nतो संस्कार शक्ति के एक अलग प्रयत्न\, पर्युषण महापर्व आराधना विशेष सेशन में जुड़ जाइए। \n🅂🄿🄴🄰🄺🄴🅁 Truptiben Maniar\n*Live on zoom* \n🔴Only for full course pregnant mothers🔴
URL:https://sanskarshakti.org/event/paryushan-kartavya/2024-08-20/
CATEGORIES:Full course mothers
ATTACH;FMTTYPE=image/jpeg:https://storage.jainebooks.org/sanskarshakti/2024/07/IMG-20240729-152735-409.jpg
LOCATION:https://us02web.zoom.us/j/82082944297
END:VEVENT
BEGIN:VEVENT
DTSTART;TZID=Asia/Kolkata:20240821T143000
DTEND;TZID=Asia/Kolkata:20240821T163000
DTSTAMP:20260419T203121
CREATED:20240729T100531Z
LAST-MODIFIED:20240730T164417Z
UID:10003104-1724250600-1724257800@sanskarshakti.org
SUMMARY:Paryushan Kartavya
DESCRIPTION:Sanskar Shakti Presents \n🅿🅰🆁🆈🆄🆂🅷🅰🅽 🅺🅰🆁🆃🅰🆅🆈🅰 \n💠क्या आप जानते हैं?💠 \n👉 पर्युषण को पर्वाधिराज क्यों कहा गया है ? \n👉 महापर्व पर्युषण की आराधना हमें कैसे करनी चाहिए? \n👉 क्या आप सबको पता है पर्युषण महापर्व में हमें कौन-से पांच कर्तव्य का पालन करना होता है ? \n👉 क्या आप जानते हो पूरे वर्ष दरमियान हमें कौन-से ग्यारह कर्तव्य का पालन करना होता है ? \n👉 सच्ची क्षमापना किसे कहते हैं। \n👉 चंपा श्राविका \, कुमारपाल राजा\, भरत चक्रवर्ती\, शांतनु सेठ\, नागकेतु \, लक्ष्मणा साध्वी जी\, मृगावती आदि ने पर्युषण के कर्तव्य को कैसे निभाया यह सब जानना है ? \nऔर हां यह सभी का नाता सम्यक दर्शन के साथ है\, तो ऐसे सम्यक दर्शन की प्राप्ति पर्युषण महापर्व की आराधना द्वारा करनी है ? \nइस साल के पर्युषण महापर्व आपको और आपके  गर्भस्थ बालक की मोक्ष यात्रा को  नजदीक लेकर आए ऐसा बनाना है ? \nतो संस्कार शक्ति के एक अलग प्रयत्न\, पर्युषण महापर्व आराधना विशेष सेशन में जुड़ जाइए। \n🅂🄿🄴🄰🄺🄴🅁 Truptiben Maniar\n*Live on zoom* \n🔴Only for full course pregnant mothers🔴
URL:https://sanskarshakti.org/event/paryushan-kartavya/2024-08-21/
CATEGORIES:Full course mothers
ATTACH;FMTTYPE=image/jpeg:https://storage.jainebooks.org/sanskarshakti/2024/07/IMG-20240729-152735-409.jpg
LOCATION:https://us02web.zoom.us/j/82082944297
END:VEVENT
BEGIN:VEVENT
DTSTART;TZID=Asia/Kolkata:20240822T143000
DTEND;TZID=Asia/Kolkata:20240822T163000
DTSTAMP:20260419T203121
CREATED:20240729T100531Z
LAST-MODIFIED:20240730T164417Z
UID:10003105-1724337000-1724344200@sanskarshakti.org
SUMMARY:Paryushan Kartavya
DESCRIPTION:Sanskar Shakti Presents \n🅿🅰🆁🆈🆄🆂🅷🅰🅽 🅺🅰🆁🆃🅰🆅🆈🅰 \n💠क्या आप जानते हैं?💠 \n👉 पर्युषण को पर्वाधिराज क्यों कहा गया है ? \n👉 महापर्व पर्युषण की आराधना हमें कैसे करनी चाहिए? \n👉 क्या आप सबको पता है पर्युषण महापर्व में हमें कौन-से पांच कर्तव्य का पालन करना होता है ? \n👉 क्या आप जानते हो पूरे वर्ष दरमियान हमें कौन-से ग्यारह कर्तव्य का पालन करना होता है ? \n👉 सच्ची क्षमापना किसे कहते हैं। \n👉 चंपा श्राविका \, कुमारपाल राजा\, भरत चक्रवर्ती\, शांतनु सेठ\, नागकेतु \, लक्ष्मणा साध्वी जी\, मृगावती आदि ने पर्युषण के कर्तव्य को कैसे निभाया यह सब जानना है ? \nऔर हां यह सभी का नाता सम्यक दर्शन के साथ है\, तो ऐसे सम्यक दर्शन की प्राप्ति पर्युषण महापर्व की आराधना द्वारा करनी है ? \nइस साल के पर्युषण महापर्व आपको और आपके  गर्भस्थ बालक की मोक्ष यात्रा को  नजदीक लेकर आए ऐसा बनाना है ? \nतो संस्कार शक्ति के एक अलग प्रयत्न\, पर्युषण महापर्व आराधना विशेष सेशन में जुड़ जाइए। \n🅂🄿🄴🄰🄺🄴🅁 Truptiben Maniar\n*Live on zoom* \n🔴Only for full course pregnant mothers🔴
URL:https://sanskarshakti.org/event/paryushan-kartavya/2024-08-22/
CATEGORIES:Full course mothers
ATTACH;FMTTYPE=image/jpeg:https://storage.jainebooks.org/sanskarshakti/2024/07/IMG-20240729-152735-409.jpg
LOCATION:https://us02web.zoom.us/j/82082944297
END:VEVENT
END:VCALENDAR