BEGIN:VCALENDAR
VERSION:2.0
PRODID:-//Sanskar Shakti - Garbh Sanskar - ECPv6.13.2.1//NONSGML v1.0//EN
CALSCALE:GREGORIAN
METHOD:PUBLISH
X-WR-CALNAME:Sanskar Shakti - Garbh Sanskar
X-ORIGINAL-URL:https://sanskarshakti.org
X-WR-CALDESC:Events for Sanskar Shakti - Garbh Sanskar
REFRESH-INTERVAL;VALUE=DURATION:PT1H
X-Robots-Tag:noindex
X-PUBLISHED-TTL:PT1H
BEGIN:VTIMEZONE
TZID:Asia/Kolkata
BEGIN:STANDARD
TZOFFSETFROM:+0530
TZOFFSETTO:+0530
TZNAME:IST
DTSTART:20240101T000000
END:STANDARD
END:VTIMEZONE
BEGIN:VEVENT
DTSTART;TZID=Asia/Kolkata:20240102T140000
DTEND;TZID=Asia/Kolkata:20240102T160000
DTSTAMP:20260420T195135
CREATED:20231226T161445Z
LAST-MODIFIED:20231226T161445Z
UID:10001366-1704204000-1704211200@sanskarshakti.org
SUMMARY:Shri Parshvanath Bhagwan Charitra
DESCRIPTION:Sanskar Shakti Presents \n🆂🅷🆁🅸 🅿🅰🆁🆂🅷🆅🅰🅽🅰🆃🅷  \n🅱🅷🅰🅶🆆🅰🅽 🅲🅷🅰🆁🅸🆃🆁🅰 \n🙏 परम पुरुषादानीय श्री पार्श्व प्रभु के चरणों में नमन 🙏 \n👉क्या आप को पता है कि सबसे कम शासन किस भगवान का था? \n👉क्या आप को पता है कि सबसे ज़्यादा तीर्थ किस भगवान के हैं? \n👉क्या आप को पता है कि  सबसे ज़्यादा प्रभाव कौन से भगवान का है? \n👉क्या आप को पता है कि  सबसे ज़्यादा नाम  कौन से भगवान के हैं?  \n👉अगर ऊपर दिए गए सवालों का उत्तर पता है तो क्या आपको यह पता है कि ऐसा क्यूं है? \n👉ऐसा भी प्रभु ने क्या किया था कि उनका प्रभाव इतना ज्यादा है ? \n👉क्या आप को  प्रभु पार्श्वनाथ का चरित्र सुनना है? \n💠तो आइए प्रभु पार्श्वनाथ के चरित्र को जानने और समजने के लिए💠 \n🆃🆄🆃🅾🆁 – Meetaben Shah  \n🔴 Only for full course pregnant mothers
URL:https://sanskarshakti.org/event/shri-parshvanath-bhagwan-charitra/2024-01-02/
CATEGORIES:Full course mothers
ATTACH;FMTTYPE=image/jpeg:https://storage.jainebooks.org/sanskarshakti/2023/12/IMG-20231226-214223-957.jpg
LOCATION:https://us02web.zoom.us/j/82459882081
END:VEVENT
BEGIN:VEVENT
DTSTART;TZID=Asia/Kolkata:20240103T140000
DTEND;TZID=Asia/Kolkata:20240103T160000
DTSTAMP:20260420T195135
CREATED:20231226T161445Z
LAST-MODIFIED:20231226T161445Z
UID:10001367-1704290400-1704297600@sanskarshakti.org
SUMMARY:Shri Parshvanath Bhagwan Charitra
DESCRIPTION:Sanskar Shakti Presents \n🆂🅷🆁🅸 🅿🅰🆁🆂🅷🆅🅰🅽🅰🆃🅷  \n🅱🅷🅰🅶🆆🅰🅽 🅲🅷🅰🆁🅸🆃🆁🅰 \n🙏 परम पुरुषादानीय श्री पार्श्व प्रभु के चरणों में नमन 🙏 \n👉क्या आप को पता है कि सबसे कम शासन किस भगवान का था? \n👉क्या आप को पता है कि सबसे ज़्यादा तीर्थ किस भगवान के हैं? \n👉क्या आप को पता है कि  सबसे ज़्यादा प्रभाव कौन से भगवान का है? \n👉क्या आप को पता है कि  सबसे ज़्यादा नाम  कौन से भगवान के हैं?  \n👉अगर ऊपर दिए गए सवालों का उत्तर पता है तो क्या आपको यह पता है कि ऐसा क्यूं है? \n👉ऐसा भी प्रभु ने क्या किया था कि उनका प्रभाव इतना ज्यादा है ? \n👉क्या आप को  प्रभु पार्श्वनाथ का चरित्र सुनना है? \n💠तो आइए प्रभु पार्श्वनाथ के चरित्र को जानने और समजने के लिए💠 \n🆃🆄🆃🅾🆁 – Meetaben Shah  \n🔴 Only for full course pregnant mothers
URL:https://sanskarshakti.org/event/shri-parshvanath-bhagwan-charitra/2024-01-03/
CATEGORIES:Full course mothers
ATTACH;FMTTYPE=image/jpeg:https://storage.jainebooks.org/sanskarshakti/2023/12/IMG-20231226-214223-957.jpg
LOCATION:https://us02web.zoom.us/j/82459882081
END:VEVENT
BEGIN:VEVENT
DTSTART;TZID=Asia/Kolkata:20240104T140000
DTEND;TZID=Asia/Kolkata:20240104T160000
DTSTAMP:20260420T195135
CREATED:20231226T161445Z
LAST-MODIFIED:20231226T161445Z
UID:10001368-1704376800-1704384000@sanskarshakti.org
SUMMARY:Shri Parshvanath Bhagwan Charitra
DESCRIPTION:Sanskar Shakti Presents \n🆂🅷🆁🅸 🅿🅰🆁🆂🅷🆅🅰🅽🅰🆃🅷  \n🅱🅷🅰🅶🆆🅰🅽 🅲🅷🅰🆁🅸🆃🆁🅰 \n🙏 परम पुरुषादानीय श्री पार्श्व प्रभु के चरणों में नमन 🙏 \n👉क्या आप को पता है कि सबसे कम शासन किस भगवान का था? \n👉क्या आप को पता है कि सबसे ज़्यादा तीर्थ किस भगवान के हैं? \n👉क्या आप को पता है कि  सबसे ज़्यादा प्रभाव कौन से भगवान का है? \n👉क्या आप को पता है कि  सबसे ज़्यादा नाम  कौन से भगवान के हैं?  \n👉अगर ऊपर दिए गए सवालों का उत्तर पता है तो क्या आपको यह पता है कि ऐसा क्यूं है? \n👉ऐसा भी प्रभु ने क्या किया था कि उनका प्रभाव इतना ज्यादा है ? \n👉क्या आप को  प्रभु पार्श्वनाथ का चरित्र सुनना है? \n💠तो आइए प्रभु पार्श्वनाथ के चरित्र को जानने और समजने के लिए💠 \n🆃🆄🆃🅾🆁 – Meetaben Shah  \n🔴 Only for full course pregnant mothers
URL:https://sanskarshakti.org/event/shri-parshvanath-bhagwan-charitra/2024-01-04/
CATEGORIES:Full course mothers
ATTACH;FMTTYPE=image/jpeg:https://storage.jainebooks.org/sanskarshakti/2023/12/IMG-20231226-214223-957.jpg
LOCATION:https://us02web.zoom.us/j/82459882081
END:VEVENT
BEGIN:VEVENT
DTSTART;TZID=Asia/Kolkata:20240109T203000
DTEND;TZID=Asia/Kolkata:20240109T213000
DTSTAMP:20260420T195135
CREATED:20231226T170043Z
LAST-MODIFIED:20231226T170043Z
UID:10001364-1704832200-1704835800@sanskarshakti.org
SUMMARY:Magic Of Music In Pregnancy
DESCRIPTION:Exclusively for our SSK Mothers \nWe are coming up with \n🄼🄰🄶🄸🄲 🄾🄵 🄼🅄🅂🄸🄲\n🄸🄽 🄿🅁🄴🄶🄽🄰🄽🄲🅈 \nDid you know ❓❔\nᗰᑌᔑᏆᑕ Ꮖᑎ ᑭᖇᗴᏀᑎᗩᑎᑕᎩ\n🎶🎵🎶🎵🎶🎵🎶🎵🎵🎶🎵🎶 \n⚜️Makes the mother and the baby Calm & relaxed \n⚜️Helps in baby’s brain development. \n⚜️Baby enjoys it. \n⚜️Develops healthy sleeping pattern. \n⚜️ It connects you with your baby \n🅂🄿🄴🄰🄺🄴🅁 Dr. Jolly Parikh\n*Live on zoom* \n🔴 Only for full course mothers🔴
URL:https://sanskarshakti.org/event/magic-of-music-in-pregnancy/
CATEGORIES:Full course mothers
ATTACH;FMTTYPE=image/jpeg:https://storage.jainebooks.org/sanskarshakti/2023/12/IMG-20231226-214219-457.jpg
LOCATION:https://us02web.zoom.us/j/88338116878
END:VEVENT
BEGIN:VEVENT
DTSTART;TZID=Asia/Kolkata:20240123T190000
DTEND;TZID=Asia/Kolkata:20240123T203000
DTSTAMP:20260420T195135
CREATED:20240103T092815Z
LAST-MODIFIED:20240119T174354Z
UID:10001372-1706036400-1706041800@sanskarshakti.org
SUMMARY:Coffee Painting
DESCRIPTION:Sanskar Shakti presents yet another art session \n☕ᏟϴҒҒᎬᎬ ᏢᎪᏆΝͲᏆΝᏀ 🖌️ \nLets paint something different with  coffee powder and make a stunning Art out of it. \n🅃🅄🅃🄾🅁 Mrs. Riya Shah  \n🄼🄰🅃🄴🅁🄸🄰🄻 🄽🄴🄴🄳🄴🄳 \n⚜️Pencil / eraser\n⚜️Coffee pouch (Nestle)\n⚜️Brushes 0 number and flat 4\n⚜️Water palate\n⚜️Rough cloth\n⚜️Rough paper\n⚜️A4 size Drawing paper(Don’t use the one from your kit)\n⚜️black thin permanent marker\n⚜️ Rounder  \nNote : The image will be shared soon \, which needs to be traced or drawn free hand on the drawing paper \n🔴 Only for Full course Pregnant Participants 🔴
URL:https://sanskarshakti.org/event/coffee-painting/
CATEGORIES:Full course mothers
ATTACH;FMTTYPE=image/jpeg:https://storage.jainebooks.org/sanskarshakti/2024/01/IMG-20240102-112839-189.jpg
LOCATION:https://us02web.zoom.us/j/86544343466
END:VEVENT
END:VCALENDAR