BEGIN:VCALENDAR
VERSION:2.0
PRODID:-//Sanskar Shakti - Garbh Sanskar - ECPv6.13.2.1//NONSGML v1.0//EN
CALSCALE:GREGORIAN
METHOD:PUBLISH
X-WR-CALNAME:Sanskar Shakti - Garbh Sanskar
X-ORIGINAL-URL:https://sanskarshakti.org
X-WR-CALDESC:Events for Sanskar Shakti - Garbh Sanskar
REFRESH-INTERVAL;VALUE=DURATION:PT1H
X-Robots-Tag:noindex
X-PUBLISHED-TTL:PT1H
BEGIN:VTIMEZONE
TZID:Asia/Kolkata
BEGIN:STANDARD
TZOFFSETFROM:+0530
TZOFFSETTO:+0530
TZNAME:IST
DTSTART:20230101T000000
END:STANDARD
END:VTIMEZONE
BEGIN:VEVENT
DTSTART;TZID=Asia/Kolkata:20231205T203000
DTEND;TZID=Asia/Kolkata:20231205T213000
DTSTAMP:20260420T213546
CREATED:20231130T091209Z
LAST-MODIFIED:20231130T091209Z
UID:10001348-1701808200-1701811800@sanskarshakti.org
SUMMARY:Get Ready For Labour To Latch
DESCRIPTION:Sanskar Shakti Presents a session on: \n🅶🅴🆃 🆁🅴🅰🅳🆈 🅵🅾🆁\n         🅻🅰🅱🅾🆄🆁 🆃🅾 🅻🅰🆃🅲🅷 \n💠Points we will cover💠 \n👉 What to prepare for Labour ? \n👉 How to get mentally prepared for C_ section ? \n👉 How you can make yourself ready for Breastfeeding ? ( Along with mental Affirmations) \n👉What type of help you should ask in this period ? \n🅂🄿🄴🄰🄺🄴🅁 Dr. Jolly Parikh \n🔴 Only for Full course Pregnant Participants 🔴
URL:https://sanskarshakti.org/event/get-ready-for-labour-to-latch/
CATEGORIES:Full course mothers
ATTACH;FMTTYPE=image/jpeg:https://storage.jainebooks.org/sanskarshakti/2023/11/Get-Ready-for-Labour-to-Latch.jpg
LOCATION:https://us02web.zoom.us/j/87490990719
END:VEVENT
BEGIN:VEVENT
DTSTART;TZID=Asia/Kolkata:20231207T200000
DTEND;TZID=Asia/Kolkata:20231207T210000
DTSTAMP:20260420T213546
CREATED:20231130T091703Z
LAST-MODIFIED:20231130T091703Z
UID:10001349-1701979200-1701982800@sanskarshakti.org
SUMMARY:Boho Art Glass Bottle Painting
DESCRIPTION:Sanskar Shakti Presents Creative Session : \n🅱🅾🅷🅾 🅰🆁🆃 🅶🅻🅰🆂🆂 🅱🅾🆃🆃🅻🅴 🅿🅰🅸🅽🆃🅸🅽🅶 \nIts time to explore your art side with our Creative session. \nWhy Art sessions during pregnancy?? \n🔸Builds concentration\n🔸Helps being Creative\n🔸Makes you practice patience\n🔸Overall positivity and\n🔸Inner happiness  \nMaterials Required :\n👉Glass bottle\n(Nescafe coffee bottle or Kissan Jam bottle\, whichever is available at your home)\n👉Paint brush\n👉Acrylic colours provided in kit\n👉Rough cloth – water bowl \nTutor: Dr. Amruta Gosar \n🔴 Only for full course pregnant participants
URL:https://sanskarshakti.org/event/boho-art-glass-bottle-painting/
CATEGORIES:Full course mothers
ATTACH;FMTTYPE=image/jpeg:https://storage.jainebooks.org/sanskarshakti/2023/11/Boho-Art-Glass-Bottle-Painting.jpg
LOCATION:https://us02web.zoom.us/j/86592282608
END:VEVENT
BEGIN:VEVENT
DTSTART;TZID=Asia/Kolkata:20231215T190000
DTEND;TZID=Asia/Kolkata:20231215T210000
DTSTAMP:20260420T213546
CREATED:20231204T143137Z
LAST-MODIFIED:20231204T143137Z
UID:10001359-1702666800-1702674000@sanskarshakti.org
SUMMARY:Halarda (Lullaby) Singing
DESCRIPTION:Sanskar Shakti presents a session on: \n🅷🅰🅻🅰🆁🅳🅰 🆂🅸🅽🅶🅸🅽🅶 \n#Halarda #Lullaby singing  \n🔴In this session you will learn different halarda/lullabies.\n.\n🎶ᏆᎷᏢϴᎡͲᎪΝᏟᎬ ϴҒ ᎻᎪᏞᎪᎡᎠᎪ🎵 \n⚜️ माता ने बालक के लिए गाई हुई लोरी बालक के विकास के लिए श्रेष्ठ रसायण है।\n⚜️विश्वके Best मे Best संगीत की असर से भी लोरी (हालरडा) की असर बालक पर अनेक गुणा ज्यादा होती है।\n⚜️हालरडा द्वारा माता और बालक के बीच आत्मीय संबंध ज्यादा गाढ़ होते है।\nAnd\n.\n.\nThe most important\n⚜️बालक को सुलाने के काम आती है।  \n🅃🅄🅃🄾🅁 Dr. Abhay Shah\, Bhavikaben Shah  Grishmaben Sangoi\n🅅🄴🄽🅄🄴 💻 ᝪᑎ Ꮓᝪᝪᗰ   \n🔴 Only for full course mothers. 🔴 \nWE HAD GIVEN YOU ASSIGNMENT TO MAKE YOUR HALARDA… SO DO SHARE YOUR HALARDA/ LORI’S LYRICS AND AUDIO WITH US ON 9029015054 @sanskarshakti \n💠When u send write your full name n center name.  \n💠We will give opportunity to sing in session.
URL:https://sanskarshakti.org/event/halarda-lullaby-singing-2/2023-12-15/
CATEGORIES:Full course mothers
ATTACH;FMTTYPE=image/jpeg:https://storage.jainebooks.org/sanskarshakti/2023/12/IMG-20231203-201752-508.jpg
LOCATION:https://us02web.zoom.us/j/81777545268
END:VEVENT
BEGIN:VEVENT
DTSTART;TZID=Asia/Kolkata:20231216T190000
DTEND;TZID=Asia/Kolkata:20231216T210000
DTSTAMP:20260420T213546
CREATED:20231204T143137Z
LAST-MODIFIED:20231204T143137Z
UID:10001360-1702753200-1702760400@sanskarshakti.org
SUMMARY:Halarda (Lullaby) Singing
DESCRIPTION:Sanskar Shakti presents a session on: \n🅷🅰🅻🅰🆁🅳🅰 🆂🅸🅽🅶🅸🅽🅶 \n#Halarda #Lullaby singing  \n🔴In this session you will learn different halarda/lullabies.\n.\n🎶ᏆᎷᏢϴᎡͲᎪΝᏟᎬ ϴҒ ᎻᎪᏞᎪᎡᎠᎪ🎵 \n⚜️ माता ने बालक के लिए गाई हुई लोरी बालक के विकास के लिए श्रेष्ठ रसायण है।\n⚜️विश्वके Best मे Best संगीत की असर से भी लोरी (हालरडा) की असर बालक पर अनेक गुणा ज्यादा होती है।\n⚜️हालरडा द्वारा माता और बालक के बीच आत्मीय संबंध ज्यादा गाढ़ होते है।\nAnd\n.\n.\nThe most important\n⚜️बालक को सुलाने के काम आती है।  \n🅃🅄🅃🄾🅁 Dr. Abhay Shah\, Bhavikaben Shah  Grishmaben Sangoi\n🅅🄴🄽🅄🄴 💻 ᝪᑎ Ꮓᝪᝪᗰ   \n🔴 Only for full course mothers. 🔴 \nWE HAD GIVEN YOU ASSIGNMENT TO MAKE YOUR HALARDA… SO DO SHARE YOUR HALARDA/ LORI’S LYRICS AND AUDIO WITH US ON 9029015054 @sanskarshakti \n💠When u send write your full name n center name.  \n💠We will give opportunity to sing in session.
URL:https://sanskarshakti.org/event/halarda-lullaby-singing-2/2023-12-16/
CATEGORIES:Full course mothers
ATTACH;FMTTYPE=image/jpeg:https://storage.jainebooks.org/sanskarshakti/2023/12/IMG-20231203-201752-508.jpg
LOCATION:https://us02web.zoom.us/j/81777545268
END:VEVENT
BEGIN:VEVENT
DTSTART;TZID=Asia/Kolkata:20231218T193000
DTEND;TZID=Asia/Kolkata:20231218T210000
DTSTAMP:20260420T213546
CREATED:20231202T070923Z
LAST-MODIFIED:20231202T070923Z
UID:10001350-1702927800-1702933200@sanskarshakti.org
SUMMARY:Maternity Embroidery
DESCRIPTION:Sanskar Shakti invites you for the  \n🅼🅰️🆃🅴🆁🅽🅸🆃🆈 🅴🅼🅱🆁🅾🅸🅳🅴🆁🆈 🅰🅽🅳 🅿🅰🅸🅽🆃🅸🅽🅶 🆂🅴🆂🆂🅸🅾🅽 \nWhat happens when you work with embroidery ??? \n👉IT HELPS TO DEVELOP  CONCENTRATION AND PATIENCE IN BABY\n👉IT ALSO IMPROVES HAND AND EYE CO-ORDINATION IN BABY  \nSo let’s work together and make a beautiful hanging of your pregnancy . \nEVERYONE EXCITED ???\nBE READY TO MAKE A BEAUTIFUL ART IN COMBINATION OF PAINTS AND EMBROIDERY \nMATERIAL  REQUIRED FOR MATERNITY EMBROIDERY SESSION: \n1. Acrylic colours\n2. Paint Brush\n3. Tapesty Needle & Thread\n4.Black sketch pen and pencil\n5.Anchor Threads : red\, blue\, pink\, dark green\, light green \, black \,brown (1 bundle each )\n6. Khadi fabric : half meter  \,\n7.Embroidery ring 8 inch\,\n8. Fabric glue\n9. Half pearls  : packet of 50\,\n10.Ribbion of any colour is fine : half meter\n11.Print out of image shared in pdf file on A4 size paper\n12. Yellow carbon paper\n13. Felt sheet \nNote: From above list item no. 1 to 4. is available in sanskar shakti kit and you can get item no. 5 to 13 in customized kit from Vikrambhai Ratadia. To order customized embroidery kit you contact on 9022855712 (whatsapp only) \n🆃🆄🆃🅾🆁 : Bhavikaben Ratadia  \n🔴Only for full course pregnant participants🔴
URL:https://sanskarshakti.org/event/maternity-embroidery/2023-12-18/
CATEGORIES:Full course mothers
ATTACH;FMTTYPE=image/jpeg:https://storage.jainebooks.org/sanskarshakti/2023/11/IMG-20231202-123419-195.jpg
LOCATION:https://us02web.zoom.us/j/88067624550
END:VEVENT
BEGIN:VEVENT
DTSTART;TZID=Asia/Kolkata:20231220T193000
DTEND;TZID=Asia/Kolkata:20231220T210000
DTSTAMP:20260420T213546
CREATED:20231202T070923Z
LAST-MODIFIED:20231202T070923Z
UID:10001351-1703100600-1703106000@sanskarshakti.org
SUMMARY:Maternity Embroidery
DESCRIPTION:Sanskar Shakti invites you for the  \n🅼🅰️🆃🅴🆁🅽🅸🆃🆈 🅴🅼🅱🆁🅾🅸🅳🅴🆁🆈 🅰🅽🅳 🅿🅰🅸🅽🆃🅸🅽🅶 🆂🅴🆂🆂🅸🅾🅽 \nWhat happens when you work with embroidery ??? \n👉IT HELPS TO DEVELOP  CONCENTRATION AND PATIENCE IN BABY\n👉IT ALSO IMPROVES HAND AND EYE CO-ORDINATION IN BABY  \nSo let’s work together and make a beautiful hanging of your pregnancy . \nEVERYONE EXCITED ???\nBE READY TO MAKE A BEAUTIFUL ART IN COMBINATION OF PAINTS AND EMBROIDERY \nMATERIAL  REQUIRED FOR MATERNITY EMBROIDERY SESSION: \n1. Acrylic colours\n2. Paint Brush\n3. Tapesty Needle & Thread\n4.Black sketch pen and pencil\n5.Anchor Threads : red\, blue\, pink\, dark green\, light green \, black \,brown (1 bundle each )\n6. Khadi fabric : half meter  \,\n7.Embroidery ring 8 inch\,\n8. Fabric glue\n9. Half pearls  : packet of 50\,\n10.Ribbion of any colour is fine : half meter\n11.Print out of image shared in pdf file on A4 size paper\n12. Yellow carbon paper\n13. Felt sheet \nNote: From above list item no. 1 to 4. is available in sanskar shakti kit and you can get item no. 5 to 13 in customized kit from Vikrambhai Ratadia. To order customized embroidery kit you contact on 9022855712 (whatsapp only) \n🆃🆄🆃🅾🆁 : Bhavikaben Ratadia  \n🔴Only for full course pregnant participants🔴
URL:https://sanskarshakti.org/event/maternity-embroidery/2023-12-20/
CATEGORIES:Full course mothers
ATTACH;FMTTYPE=image/jpeg:https://storage.jainebooks.org/sanskarshakti/2023/11/IMG-20231202-123419-195.jpg
LOCATION:https://us02web.zoom.us/j/88067624550
END:VEVENT
BEGIN:VEVENT
DTSTART;TZID=Asia/Kolkata:20231222T193000
DTEND;TZID=Asia/Kolkata:20231222T210000
DTSTAMP:20260420T213546
CREATED:20231202T070923Z
LAST-MODIFIED:20231202T070923Z
UID:10001352-1703273400-1703278800@sanskarshakti.org
SUMMARY:Maternity Embroidery
DESCRIPTION:Sanskar Shakti invites you for the  \n🅼🅰️🆃🅴🆁🅽🅸🆃🆈 🅴🅼🅱🆁🅾🅸🅳🅴🆁🆈 🅰🅽🅳 🅿🅰🅸🅽🆃🅸🅽🅶 🆂🅴🆂🆂🅸🅾🅽 \nWhat happens when you work with embroidery ??? \n👉IT HELPS TO DEVELOP  CONCENTRATION AND PATIENCE IN BABY\n👉IT ALSO IMPROVES HAND AND EYE CO-ORDINATION IN BABY  \nSo let’s work together and make a beautiful hanging of your pregnancy . \nEVERYONE EXCITED ???\nBE READY TO MAKE A BEAUTIFUL ART IN COMBINATION OF PAINTS AND EMBROIDERY \nMATERIAL  REQUIRED FOR MATERNITY EMBROIDERY SESSION: \n1. Acrylic colours\n2. Paint Brush\n3. Tapesty Needle & Thread\n4.Black sketch pen and pencil\n5.Anchor Threads : red\, blue\, pink\, dark green\, light green \, black \,brown (1 bundle each )\n6. Khadi fabric : half meter  \,\n7.Embroidery ring 8 inch\,\n8. Fabric glue\n9. Half pearls  : packet of 50\,\n10.Ribbion of any colour is fine : half meter\n11.Print out of image shared in pdf file on A4 size paper\n12. Yellow carbon paper\n13. Felt sheet \nNote: From above list item no. 1 to 4. is available in sanskar shakti kit and you can get item no. 5 to 13 in customized kit from Vikrambhai Ratadia. To order customized embroidery kit you contact on 9022855712 (whatsapp only) \n🆃🆄🆃🅾🆁 : Bhavikaben Ratadia  \n🔴Only for full course pregnant participants🔴
URL:https://sanskarshakti.org/event/maternity-embroidery/2023-12-22/
CATEGORIES:Full course mothers
ATTACH;FMTTYPE=image/jpeg:https://storage.jainebooks.org/sanskarshakti/2023/11/IMG-20231202-123419-195.jpg
LOCATION:https://us02web.zoom.us/j/88067624550
END:VEVENT
BEGIN:VEVENT
DTSTART;TZID=Asia/Kolkata:20231227T190000
DTEND;TZID=Asia/Kolkata:20231227T210000
DTSTAMP:20260420T213546
CREATED:20231202T044819Z
LAST-MODIFIED:20231202T044819Z
UID:10001354-1703703600-1703710800@sanskarshakti.org
SUMMARY:Shri Kumarpal Raja Charitra
DESCRIPTION:Sanskar Shakti presents the most awaiting session \n🆂🅷🆁🅸 🅺🆄🅼🅰🆁🅿🅰🅻 🆁🅰🅹🅰 🅲🅷🅰🆁🅸🆃🆁🅰 \n💠जिनशासन ने जिनको “परमार्हत ” की पदवी दी है ।\n💠जिनकी जीवदया की प्रशंसा श्रमण भगवान महावीर ने स्वयं समवसरण में श्रेणिक महाराजा के सामने की ।\n💠कलिकाल सर्वज्ञ जैसे गुरु जिनको प्राप्त हुए\n💠जिनको केवल 5 कोडी की पुष्प पूजा के कारण 18 देशों का आधिपत्य प्राप्त हुआ । \n💠जिन्होंने अपना जीवन तीर्थ रक्षा \, जीव रक्षा \, संस्कृति रक्षा से अलंकृत किया ।\n💠जिन्होंने 18 देशों में जुगार एवं कतलखाने बंध करवाया इतना ही नहीं मार शब्द पर भी प्रतिबंध था ।\n💠जिन्होंने अपने जीवन के उत्तरार्ध में उत्तम श्रावक जीवन जीया \, इतना ही नहीं\n💠बड़ी उम्र में धर्मा प्राप्ति के बाद जिन्होंने संस्कृत साहित्य की रचना भी की । \nपता चल ही गया होगा कि हम किसकी बात कर रहे हैं👉 \n जी हां हम गुर्जरेश्वर \, त्रिभुवनपाल के पुत्र \, चौलुक्य (सोलंकी) वंश के कुल भूषण कुमारपाल राजा की ही बात कर रहे हैं आप सब को इनका चरित्र जानना है तो अवश्य तैयार रहे । \nSpeaker : Truptiben Maniar \n🔴Only for full course pregnant mothers🔴
URL:https://sanskarshakti.org/event/shri-kumarpal-raja-charitra/2023-12-27/
CATEGORIES:Full course mothers
ATTACH;FMTTYPE=image/jpeg:https://storage.jainebooks.org/sanskarshakti/2023/11/IMG-20231202-101532-246.jpg
LOCATION:https://us02web.zoom.us/j/81040231806
END:VEVENT
BEGIN:VEVENT
DTSTART;TZID=Asia/Kolkata:20231228T190000
DTEND;TZID=Asia/Kolkata:20231228T210000
DTSTAMP:20260420T213546
CREATED:20231202T044819Z
LAST-MODIFIED:20231202T044819Z
UID:10001355-1703790000-1703797200@sanskarshakti.org
SUMMARY:Shri Kumarpal Raja Charitra
DESCRIPTION:Sanskar Shakti presents the most awaiting session \n🆂🅷🆁🅸 🅺🆄🅼🅰🆁🅿🅰🅻 🆁🅰🅹🅰 🅲🅷🅰🆁🅸🆃🆁🅰 \n💠जिनशासन ने जिनको “परमार्हत ” की पदवी दी है ।\n💠जिनकी जीवदया की प्रशंसा श्रमण भगवान महावीर ने स्वयं समवसरण में श्रेणिक महाराजा के सामने की ।\n💠कलिकाल सर्वज्ञ जैसे गुरु जिनको प्राप्त हुए\n💠जिनको केवल 5 कोडी की पुष्प पूजा के कारण 18 देशों का आधिपत्य प्राप्त हुआ । \n💠जिन्होंने अपना जीवन तीर्थ रक्षा \, जीव रक्षा \, संस्कृति रक्षा से अलंकृत किया ।\n💠जिन्होंने 18 देशों में जुगार एवं कतलखाने बंध करवाया इतना ही नहीं मार शब्द पर भी प्रतिबंध था ।\n💠जिन्होंने अपने जीवन के उत्तरार्ध में उत्तम श्रावक जीवन जीया \, इतना ही नहीं\n💠बड़ी उम्र में धर्मा प्राप्ति के बाद जिन्होंने संस्कृत साहित्य की रचना भी की । \nपता चल ही गया होगा कि हम किसकी बात कर रहे हैं👉 \n जी हां हम गुर्जरेश्वर \, त्रिभुवनपाल के पुत्र \, चौलुक्य (सोलंकी) वंश के कुल भूषण कुमारपाल राजा की ही बात कर रहे हैं आप सब को इनका चरित्र जानना है तो अवश्य तैयार रहे । \nSpeaker : Truptiben Maniar \n🔴Only for full course pregnant mothers🔴
URL:https://sanskarshakti.org/event/shri-kumarpal-raja-charitra/2023-12-28/
CATEGORIES:Full course mothers
ATTACH;FMTTYPE=image/jpeg:https://storage.jainebooks.org/sanskarshakti/2023/11/IMG-20231202-101532-246.jpg
LOCATION:https://us02web.zoom.us/j/81040231806
END:VEVENT
BEGIN:VEVENT
DTSTART;TZID=Asia/Kolkata:20231229T190000
DTEND;TZID=Asia/Kolkata:20231229T210000
DTSTAMP:20260420T213546
CREATED:20231202T044819Z
LAST-MODIFIED:20231202T044819Z
UID:10001356-1703876400-1703883600@sanskarshakti.org
SUMMARY:Shri Kumarpal Raja Charitra
DESCRIPTION:Sanskar Shakti presents the most awaiting session \n🆂🅷🆁🅸 🅺🆄🅼🅰🆁🅿🅰🅻 🆁🅰🅹🅰 🅲🅷🅰🆁🅸🆃🆁🅰 \n💠जिनशासन ने जिनको “परमार्हत ” की पदवी दी है ।\n💠जिनकी जीवदया की प्रशंसा श्रमण भगवान महावीर ने स्वयं समवसरण में श्रेणिक महाराजा के सामने की ।\n💠कलिकाल सर्वज्ञ जैसे गुरु जिनको प्राप्त हुए\n💠जिनको केवल 5 कोडी की पुष्प पूजा के कारण 18 देशों का आधिपत्य प्राप्त हुआ । \n💠जिन्होंने अपना जीवन तीर्थ रक्षा \, जीव रक्षा \, संस्कृति रक्षा से अलंकृत किया ।\n💠जिन्होंने 18 देशों में जुगार एवं कतलखाने बंध करवाया इतना ही नहीं मार शब्द पर भी प्रतिबंध था ।\n💠जिन्होंने अपने जीवन के उत्तरार्ध में उत्तम श्रावक जीवन जीया \, इतना ही नहीं\n💠बड़ी उम्र में धर्मा प्राप्ति के बाद जिन्होंने संस्कृत साहित्य की रचना भी की । \nपता चल ही गया होगा कि हम किसकी बात कर रहे हैं👉 \n जी हां हम गुर्जरेश्वर \, त्रिभुवनपाल के पुत्र \, चौलुक्य (सोलंकी) वंश के कुल भूषण कुमारपाल राजा की ही बात कर रहे हैं आप सब को इनका चरित्र जानना है तो अवश्य तैयार रहे । \nSpeaker : Truptiben Maniar \n🔴Only for full course pregnant mothers🔴
URL:https://sanskarshakti.org/event/shri-kumarpal-raja-charitra/2023-12-29/
CATEGORIES:Full course mothers
ATTACH;FMTTYPE=image/jpeg:https://storage.jainebooks.org/sanskarshakti/2023/11/IMG-20231202-101532-246.jpg
LOCATION:https://us02web.zoom.us/j/81040231806
END:VEVENT
END:VCALENDAR