BEGIN:VCALENDAR
VERSION:2.0
PRODID:-//Sanskar Shakti - Garbh Sanskar - ECPv6.13.2.1//NONSGML v1.0//EN
CALSCALE:GREGORIAN
METHOD:PUBLISH
X-ORIGINAL-URL:https://sanskarshakti.org
X-WR-CALDESC:Events for Sanskar Shakti - Garbh Sanskar
REFRESH-INTERVAL;VALUE=DURATION:PT1H
X-Robots-Tag:noindex
X-PUBLISHED-TTL:PT1H
BEGIN:VTIMEZONE
TZID:Asia/Kolkata
BEGIN:STANDARD
TZOFFSETFROM:+0530
TZOFFSETTO:+0530
TZNAME:IST
DTSTART:20230101T000000
END:STANDARD
END:VTIMEZONE
BEGIN:VEVENT
DTSTART;TZID=Asia/Kolkata:20231101T190000
DTEND;TZID=Asia/Kolkata:20231101T203000
DTSTAMP:20260421T041645
CREATED:20231030T072608Z
LAST-MODIFIED:20231030T072608Z
UID:10001338-1698865200-1698870600@sanskarshakti.org
SUMMARY:Ashtamangal Aalekhan
DESCRIPTION:Sanskar shakti Presents complimentary  session on making Ashtamangal with Akshat (rice). \n🅐🅢🅗🅣🅐🅜🅐🅝🅖🅐🅛\n     🅐🅐🅛🅔🅚🅗🅐🅝 \n💠अरिहंत परमात्मा के आगे अपने आप देवताओं द्वारा रचित अष्टमंगल। \n💠हमारे आत्मा का भाव मंगल करने वाले अष्टमंगल। \n💠अरिहंत भगवंत की उत्कृष्ट भक्ति का लाभ हम जिससे ले सकते हैं वह अष्टमंगल। \n💠गुरु भगवंत की उत्कृष्ट भक्ति का लाभ जिससे हम ले सकते हैं वह अष्टमंगल। \nऐसे अष्टमंगल सीखने का एक अमूल्य अवसर। \nMaterial needed:\n👉Amba mor or kolam rice (250gms)\n👉One patla or table for making Ashtamangal on it\n👉One plate to collect rice \n🅃🅄🅃🄾🅁 Truptiben Maniar  \n🔴 Only for full course pregnant mothers🔴
URL:https://sanskarshakti.org/event/ashtamangal-aalekhan/
CATEGORIES:Full course mothers
ATTACH;FMTTYPE=image/jpeg:https://storage.jainebooks.org/sanskarshakti/2023/10/Ashtamangal-Aalekhan.jpg
LOCATION:https://us02web.zoom.us/j/82609469182
END:VEVENT
BEGIN:VEVENT
DTSTART;TZID=Asia/Kolkata:20231103T190000
DTEND;TZID=Asia/Kolkata:20231103T203000
DTSTAMP:20260421T041645
CREATED:20231018T145524Z
LAST-MODIFIED:20231018T145524Z
UID:10001336-1699038000-1699043400@sanskarshakti.org
SUMMARY:Tie & Dye Art
DESCRIPTION:Upcoming Complimentary DIY Art session for 🅢🅢🅚 Mothers \n🆃🅸🅴 🅰🅽🅳 🅳🆈🅴 🅰🆁🆃 \nBenefits for pregnant ladies..\n📌Increase in patience level and concentration.\n📌 Develops creativity.\n📌 Makes you calm\n📌 Makes you happy \nSo  be ready for Tie & Dye Art session… \n👉Things needed for workshop👈 \n💠 Three Handkerchief or any cotton cloth\n💠 Acrylic colors (provided in SSK full course kit)\n💠 Water bowl\n💠Any type of thread\n💠 10 to 12 Rubber bands\n💠 Paint Brush \n🅃🅄🅃🄾🅁 Riya Shah\n🅅🄴🄽🅄🄴 Zoom Online  
URL:https://sanskarshakti.org/event/tie-dye-art/
CATEGORIES:Full course mothers
ATTACH;FMTTYPE=image/jpeg:https://storage.jainebooks.org/sanskarshakti/2023/10/IMG-20231018-195511-259.jpg
LOCATION:https://us02web.zoom.us/j/89597876418
END:VEVENT
BEGIN:VEVENT
DTSTART;TZID=Asia/Kolkata:20231104T210000
DTEND;TZID=Asia/Kolkata:20231104T213000
DTSTAMP:20260421T041645
CREATED:20231102T103303Z
LAST-MODIFIED:20231102T103303Z
UID:10001347-1699131600-1699133400@sanskarshakti.org
SUMMARY:Navkar Mantra Mahatmay
DESCRIPTION:Sanskar Shakti Presents \n🅽🅰🆅🅺🅰🆁 🅼🅰🅽🆃🆁🅰 🅼🅰🅷🅰🆃🅼🅰🆈 \nसमरो मंत्र भलो नवकार\, ए छे चौद पूरव नो सार\nएना महिमा नो नहि पार\, एनो अर्थ अनंत अपार। \nक्या आप जानते हैं – \n💢 नवकार महामंत्र कब कब गिनना चाहिए?\n💢१४ पूर्व यानि क्या?\n💢 नवकार से लौकिक और लोकोत्तर सुख कि प्राप्ति कैसे हो सकती हैं?\n💢 नवकार महामंत्र बोलने का अधिकार किसे है? \nयदि इन सवालों के जवाब जानने है तो नवकार मंत्र महात्मय session में जरूर जुडिए। \n🅂🄿🄴🄰🄺🄴🅁 Mrs. Sneha Shah  \n🔴 Only for full course pregnant mothers🔴
URL:https://sanskarshakti.org/event/navkar-mantra-mahatmay/
CATEGORIES:Full course mothers
ATTACH;FMTTYPE=image/jpeg:https://storage.jainebooks.org/sanskarshakti/2023/11/Navkar-Mantra-Mahatmay.jpg
LOCATION:https://us02web.zoom.us/j/81630108764
END:VEVENT
BEGIN:VEVENT
DTSTART;TZID=Asia/Kolkata:20231105T080000
DTEND;TZID=Asia/Kolkata:20231105T093000
DTSTAMP:20260421T041645
CREATED:20231102T095031Z
LAST-MODIFIED:20231102T095031Z
UID:10001342-1699171200-1699176600@sanskarshakti.org
SUMMARY:Navkar Mantra Aaradhna
DESCRIPTION:ON THE OCCASION OF\nRAVI PUSHYA NAKSHTRA \nՏᎪΝՏᏦᎪᎡ ՏᎻᎪᏦͲᏆ ᏦᎬΝᎠᎡᎪ ®️\nPresents \n🅽🅰🆅🅺🅰🆁 🅼🅰🅽🆃🆁🅰 🅰🅰🆁🅰🅳🅷🅽🅰\n(Along with Mudra) \n🅂🄿🄴🄰🄺🄴🅁 Panditji Ketanbhai  \n🄳🅁🄴🅂🅂 🄲🄾🄳🄴 Only in White/Off white (cream) clean and washed clothes \n🅃🄷🄸🄽🄶🅂 🄽🄴🄴🄳🄴🄳\n⚜️Katasnu (white) \n🔴only for full course pregnant mothers. \n.
URL:https://sanskarshakti.org/event/navkar-mantra-aaradhna/
CATEGORIES:Full course mothers
ATTACH;FMTTYPE=image/jpeg:https://storage.jainebooks.org/sanskarshakti/2023/11/Navkar-Mantra-Aaradhna.jpg
LOCATION:https://us02web.zoom.us/j/89049063081
END:VEVENT
BEGIN:VEVENT
DTSTART;TZID=Asia/Kolkata:20231120T203000
DTEND;TZID=Asia/Kolkata:20231120T213000
DTSTAMP:20260421T041645
CREATED:20231115T184648Z
LAST-MODIFIED:20231115T184648Z
UID:10001344-1700512200-1700515800@sanskarshakti.org
SUMMARY:Bed Rest In Pregnancy
DESCRIPTION:Sanskar Shakti Presents \n🅱🅴🅳 🆁🅴🆂🆃 🅸🅽 🅿🆁🅴🅶🅽🅰🅽🅲🆈 \nPoints we will cover :\n👉 What are the common reasons for bedrest ? \n👉 What is exactly the bed rest ? \n👉 What to do if I am in bed whole day? \n👉 Do’s and. Don’ts \n👉 How to stay joyful and active with bedrest ? \n🅂🄿🄴🄰🄺🄴🅁 Dr. Jolly Parikh\n🔴only for full course pregnant mothers.
URL:https://sanskarshakti.org/event/bed-rest-in-pregnancy/
CATEGORIES:Full course mothers
ATTACH;FMTTYPE=image/jpeg:https://storage.jainebooks.org/sanskarshakti/2023/11/IMG-20231116-001012-898.jpg
LOCATION:https://us02web.zoom.us/j/81657206137
END:VEVENT
BEGIN:VEVENT
DTSTART;TZID=Asia/Kolkata:20231122T140000
DTEND;TZID=Asia/Kolkata:20231122T160000
DTSTAMP:20260421T041645
CREATED:20231115T185048Z
LAST-MODIFIED:20231115T185048Z
UID:10001339-1700661600-1700668800@sanskarshakti.org
SUMMARY:Shri Mallinath Bhagwan Charitra
DESCRIPTION:Sanskar Shakti Presents\nᴍᴀʟʟɪɴᴀᴛʜ ʙʜᴀɢᴡᴀɴ ᴄʜᴀʀɪᴛʀᴀ \n💠१. क्या आप जानते हो की इस अवसर्पिणी  काल का तीसरा अच्छेरा  क्या था ? \n💠२. (कुल २४ में से ) कौनसे एक मात्र तीर्थंकर को दीक्षा के दिन ही  केवल ज्ञान प्राप्त हुआ ? \n💠३. श्री मल्लिनाथ भगवान स्त्री तीर्थंकर किन कारणों से हुए? \n💠४. श्री मल्लिनाथ भगवान के सबसे प्राचीन तीर्थ भोयणी का क्या महिमा है? \n💠५. श्री मल्लिनाथ भगवान ने ६ मित्र राजा को कौसे प्रेतिबोध किया? \nयदि यह जानना चाहते हो तो श्री मल्लिनाथ भगवान चरित्र session जरूर attend करें  \n🅂🄿🄴🄰🄺🄴🅁 Meetaben Shah \n🔴only for full course pregnant mothers.
URL:https://sanskarshakti.org/event/shri-mallinath-bhagwan-charitra/2023-11-22/
CATEGORIES:Full course mothers
ATTACH;FMTTYPE=image/jpeg:https://storage.jainebooks.org/sanskarshakti/2023/10/IMG-20231116-001006-083.jpg
LOCATION:https://us02web.zoom.us/j/85133770212
END:VEVENT
BEGIN:VEVENT
DTSTART;TZID=Asia/Kolkata:20231123T140000
DTEND;TZID=Asia/Kolkata:20231123T160000
DTSTAMP:20260421T041645
CREATED:20231115T185048Z
LAST-MODIFIED:20231115T185048Z
UID:10001340-1700748000-1700755200@sanskarshakti.org
SUMMARY:Shri Mallinath Bhagwan Charitra
DESCRIPTION:Sanskar Shakti Presents\nᴍᴀʟʟɪɴᴀᴛʜ ʙʜᴀɢᴡᴀɴ ᴄʜᴀʀɪᴛʀᴀ \n💠१. क्या आप जानते हो की इस अवसर्पिणी  काल का तीसरा अच्छेरा  क्या था ? \n💠२. (कुल २४ में से ) कौनसे एक मात्र तीर्थंकर को दीक्षा के दिन ही  केवल ज्ञान प्राप्त हुआ ? \n💠३. श्री मल्लिनाथ भगवान स्त्री तीर्थंकर किन कारणों से हुए? \n💠४. श्री मल्लिनाथ भगवान के सबसे प्राचीन तीर्थ भोयणी का क्या महिमा है? \n💠५. श्री मल्लिनाथ भगवान ने ६ मित्र राजा को कौसे प्रेतिबोध किया? \nयदि यह जानना चाहते हो तो श्री मल्लिनाथ भगवान चरित्र session जरूर attend करें  \n🅂🄿🄴🄰🄺🄴🅁 Meetaben Shah \n🔴only for full course pregnant mothers.
URL:https://sanskarshakti.org/event/shri-mallinath-bhagwan-charitra/2023-11-23/
CATEGORIES:Full course mothers
ATTACH;FMTTYPE=image/jpeg:https://storage.jainebooks.org/sanskarshakti/2023/10/IMG-20231116-001006-083.jpg
LOCATION:https://us02web.zoom.us/j/85133770212
END:VEVENT
END:VCALENDAR